BEGIN:VCALENDAR
METHOD:PUBLISH
X-WR-TIMEZONE:Europe/Berlin
PRODID:https://www.siwitermine.de
CALSCALE:GREGORIAN
VERSION:2.0
BEGIN:VTIMEZONE
TZID:Europe/Berlin
BEGIN:DAYLIGHT
TZOFFSETFROM:+0100
TZOFFSETTO:+0200
DTSTART:19810329T020000
RRULE:FREQ=YEARLY;BYMONTH=3;BYDAY=-1SU
TZNAME:CEST
END:DAYLIGHT
BEGIN:STANDARD
TZOFFSETFROM:+0200
TZOFFSETTO:+0100
DTSTART:19961027T030000
RRULE:FREQ=YEARLY;BYMONTH=10;BYDAY=-1SU
TZNAME:CET
END:STANDARD
END:VTIMEZONE
BEGIN:VEVENT
LOCATION:Schlossplatz Unteres Schloss Siegen
SUMMARY:JEEPS | Schauspiel von Nora Abdel Maksoud
DESCRIPTION:In dieser deutschlandweit gefeierten Komödie steht die Welt Kopf: Vermögen wird nicht mehr innerhalb von Familien weitergereicht, sondern per Losverfahren verteilt. Was wie ein radikaler Gerechtigkeitsentwurf klingt, entwickelt schnell seine ganz eigene Dynamik: Wer gestern noch alles hatte, kann heute alles verlieren - und wer mit leeren Händen kam, könnte plötzlich ganz groß abräumen. In der Behörde, die dieses Verfahren abwickeln soll, prallen Lebensentwürfe, Klassenunterschiede und Gerechtigkeitsvorstellungen frontal aufeinander. Beamte kämpfen mit Vorschriften, während fassungslose Enterbte und chronisch Glücklose um ihre Existenz ringen. Im Kampf um Teilhabe wird getrickst, geschmeichelt und zur Not auch ein Geländewagen in die Luft gesprengt. Hinter dem grellen Witz und der rasanten Komik stellt sich dabei eine unbequeme Frage: Wie gerecht kann eine Gesellschaft überhaupt sein und was wären wir bereit, dafür aufzugeben? Mit Anleihen an die Glitzerwelt des Showbusiness entfaltet JEEPS sowohl Open Air als auch im Bruchwerk Theater ein urkomisches, temporeiches Spiel um Zufall, Ehrgeiz und den ganz persönlichen Traum vom besseren Leben - schnell, schrill und mit viel Slapstick und Musik. | Info: 0271 809 18 968 | https://www.siwitermine.de/63013 
UID:siwitermine/63013/2026-06-17-1W  
CLASS:PUBLIC
DTSTART;TZID=Europe/Berlin:20260619T193000
DTEND;TZID=Europe/Berlin:20260619T193000
DTSTAMP:20260421T111624
END:VEVENT
END:VCALENDAR
