BEGIN:VCALENDAR
METHOD:PUBLISH
X-WR-TIMEZONE:Europe/Berlin
PRODID:https://www.siwitermine.de
CALSCALE:GREGORIAN
VERSION:2.0
BEGIN:VTIMEZONE
TZID:Europe/Berlin
BEGIN:DAYLIGHT
TZOFFSETFROM:+0100
TZOFFSETTO:+0200
DTSTART:19810329T020000
RRULE:FREQ=YEARLY;BYMONTH=3;BYDAY=-1SU
TZNAME:CEST
END:DAYLIGHT
BEGIN:STANDARD
TZOFFSETFROM:+0200
TZOFFSETTO:+0100
DTSTART:19961027T030000
RRULE:FREQ=YEARLY;BYMONTH=10;BYDAY=-1SU
TZNAME:CET
END:STANDARD
END:VTIMEZONE
BEGIN:VEVENT
LOCATION:Bruchwerk Theater Siegen | Siegbergstraße 1
SUMMARY:COM FELIPE QUARTETT | Konzert: Live-Premiere des 2025er-Albums EVERYDAY
DESCRIPTION:Com Felipe - das ist das neue Quartett um den brasilianischen Saxophonisten Felipe Oliveira de Sousa. Die Formation hat sich Ende 2024 gefunden und sich schnell einen Namen in der hiesigen Jazzszene erspielt. Als bestens eingespielte Rhythmusgruppe der Uni-Big Band Siegen bilden Achim Weiß (Piano), Michael Grossenbacher (Bass) und Florian Schnurr (Drums) die perfekte Grundlage für Felipe Oliveiras virtuose solistische Höhenflüge. Das Repertoire der Band ist so vielfältig wie der Jazz an sich. Das Com Felipe Quartett entführt sein Publikum mit Eigenkompositionen, Bearbeitungen bekannter Standards und brasilianischer Folklore in einen eigenständigen musikalischen Kosmos. 2025 haben die vier Musiker ihre Idee von Jazz auf ihrem ersten Album "Everyday" dokumentiert. Sie freuen sich sehr, das Album zum ersten Mal in einer Live-Aufführung zu präsentieren. Also, kommt mit auf die Reise "com Felipe"! Besetzung: Felipe Oliveira de Sousa (Sax) Achim Weiß (Piano) Michael Grossenbacher (Bass) Florian Schnurr (Drums) Special guest: Mario Mammone (Guitar) | Info: 0271 809 18 968 | https://www.siwitermine.de/63011 
UID:siwitermine/63011/2026-06-17-1W  
CLASS:PUBLIC
DTSTART;TZID=Europe/Berlin:20260620T193000
DTEND;TZID=Europe/Berlin:20260620T193000
DTSTAMP:20260421T111439
END:VEVENT
END:VCALENDAR
