BEGIN:VCALENDAR
METHOD:PUBLISH
X-WR-TIMEZONE:Europe/Berlin
PRODID:https://www.siwitermine.de
CALSCALE:GREGORIAN
VERSION:2.0
BEGIN:VTIMEZONE
TZID:Europe/Berlin
BEGIN:DAYLIGHT
TZOFFSETFROM:+0100
TZOFFSETTO:+0200
DTSTART:19810329T020000
RRULE:FREQ=YEARLY;BYMONTH=3;BYDAY=-1SU
TZNAME:CEST
END:DAYLIGHT
BEGIN:STANDARD
TZOFFSETFROM:+0200
TZOFFSETTO:+0100
DTSTART:19961027T030000
RRULE:FREQ=YEARLY;BYMONTH=10;BYDAY=-1SU
TZNAME:CET
END:STANDARD
END:VTIMEZONE
BEGIN:VEVENT
LOCATION:Museum Wilnsdorf | Rathausstr. 9 | Wilnsdorf
SUMMARY:"Das Phänomen Sherlock Holmes" | Neue Sonderausstellung im Museum Wilnsdorf
DESCRIPTION:10.05.2026 bis 02.08.2026 | 14.00 - 18.00 Uhr | Sherlock Holmes fasziniert die Menschen bereits seit Generationen und das nicht ohne Grund. Die Sonderausstellung beleuchtet die Faszination rund um die berühmte Detektivfigur. Wer war Sherlock Holmes, welchen Einfluss hatte er wirklich und wie würde er heute arbeiten? Diese Fragen leiten neugierige Nasen und Rätselfreunde durch die neue Ausstellung. Kaum ein Roman-Detektiv hat so einschlägigen Erfolg wie der berühmte Sherlock Holmes. In der Sonderausstellung werden sowohl die Figur selbst als auch ihre Lebens- und Arbeitsbedingungen im viktorianischen Zeitalter kritisch betrachtet und mit heutigen Ermittlungsmethoden verglichen. Besucherinnen und Besucher finden heraus, wie es der Romanfigur gelang die Polizeiarbeit nachhaltig zu prägen und welche Methoden des be-rühmten Detektivs auch heute noch genutzt werden. Ergänzt wird die Ausstellung durch interaktive Rätselboxen im Stil von Escape-Games. Sie sind in Zusammenarbeit mit dem Kurs Gesellschaftswissenschaften der 9. Jahrgangsstufe des Gymnasium Wilnsdorf entstanden und bieten Besucherinnen und Besuchern die Möglichkeit sich durch das Museum zu rätseln und die gesamte Ausstellung noch einmal interaktiv neu zu erleben.  | Info: 02739802145 | https://www.siwitermine.de/63021 
UID:siwitermine/63021/2026-06-03-1W  
CLASS:PUBLIC
DTSTART;TZID=Europe/Berlin:20260603T000000Z
DTEND;TZID=Europe/Berlin:20260603T000000Z
DTSTAMP:20260422T101138
END:VEVENT
END:VCALENDAR
