BEGIN:VCALENDAR
METHOD:PUBLISH
X-WR-TIMEZONE:Europe/Berlin
PRODID:https://www.siwitermine.de
CALSCALE:GREGORIAN
VERSION:2.0
BEGIN:VTIMEZONE
TZID:Europe/Berlin
BEGIN:DAYLIGHT
TZOFFSETFROM:+0100
TZOFFSETTO:+0200
DTSTART:19810329T020000
RRULE:FREQ=YEARLY;BYMONTH=3;BYDAY=-1SU
TZNAME:CEST
END:DAYLIGHT
BEGIN:STANDARD
TZOFFSETFROM:+0200
TZOFFSETTO:+0100
DTSTART:19961027T030000
RRULE:FREQ=YEARLY;BYMONTH=10;BYDAY=-1SU
TZNAME:CET
END:STANDARD
END:VTIMEZONE
BEGIN:VEVENT
LOCATION:Bruchwerk Theater Siegen | Siegbergstraße 1
SUMMARY:ZWEI HERREN VON REAL MADRID | Projekt der Theaterwerkstatt
DESCRIPTION:»Ich habe eine Frage an die beiden Lovers: Werden Sie den Ball häufiger zu Ihrem Lebensabschnittsgefährten spielen?« Weit abseits des Stadionlärms begegnen sich zwei Männer im Wald. Beim Plaudern stellt sich heraus: Die beiden haben einiges gemeinsam. Beide genießen die Stille, beide lieben Fußball, beide spielen zufällig für Real Madrid. Die Männer nähern sich an - der Mittelfeldspieler kommt auf seinem Drachen zur Weihnachtsfeier des Stürmers geflogen - und verlieben sich schließlich ineinander, was in der Welt des Profifußballs eigentlich nicht vorgesehen ist. Leo Meiers ZWEI HERREN VON REAL MADRID zeigt einen märchenhaften Gegenentwurf zu unserer Realität. Mit viel Spaß an Absurdität und großer Zärtlichkeit stellt der Text die Regeln infrage, nach denen wir Geschlecht, Begehren und Öffentlichkeit erzählen. Ein Fußball ist meistens schwarzweiß, die Welt aber hat viele Farben. | Info: 0271 809 18 968 | https://www.siwitermine.de/63015 
UID:siwitermine/63015/2026-05-17  
CLASS:PUBLIC
DTSTART;TZID=Europe/Berlin:20260517T193000
DTEND;TZID=Europe/Berlin:20260517T193000
DTSTAMP:20260421T111751
END:VEVENT
END:VCALENDAR
