BEGIN:VCALENDAR
METHOD:PUBLISH
X-WR-TIMEZONE:Europe/Berlin
PRODID:https://www.siwitermine.de
CALSCALE:GREGORIAN
VERSION:2.0
BEGIN:VTIMEZONE
TZID:Europe/Berlin
BEGIN:DAYLIGHT
TZOFFSETFROM:+0100
TZOFFSETTO:+0200
DTSTART:19810329T020000
RRULE:FREQ=YEARLY;BYMONTH=3;BYDAY=-1SU
TZNAME:CEST
END:DAYLIGHT
BEGIN:STANDARD
TZOFFSETFROM:+0200
TZOFFSETTO:+0100
DTSTART:19961027T030000
RRULE:FREQ=YEARLY;BYMONTH=10;BYDAY=-1SU
TZNAME:CET
END:STANDARD
END:VTIMEZONE
BEGIN:VEVENT
LOCATION:Neunkirchen | Treff: Ortsmitte Neunkirchen |
SUMMARY:Neue Ortsmitte Neunkirchen | 
DESCRIPTION:Freu dich auf ein buntes Programm an mehreren Standorten: Live-Musik, ein abwechslungsreiches Bühnenprogramm und eine Modenschau sorgen für beste Unterhaltung. Für Kinder und Jugendliche gibt es jede Menge Spiel und Spaß, während das kulinarische Dorf mit vielfältigen Angeboten zum Genießen einlädt. Ein besonderes Highlight ist die Blaulichtmeile mit spannenden Einblicken und Mitmachaktionen. Im Alten Dorf erwartet dich zudem ein liebevoll gestaltetes Familienprogramm. AB 18 UUhr Programm auf der Bühne am Rathausplatz mit The Honky Tonk Pounders und Queen May Rock. | Info: 02735 767409 | https://www.siwitermine.de/63024 
UID:siwitermine/63024/2026-05-09  
CLASS:PUBLIC
DTSTART;TZID=Europe/Berlin:20260509T100000
DTEND;TZID=Europe/Berlin:20260509T100000
DTSTAMP:20260422T102434
END:VEVENT
END:VCALENDAR
