BEGIN:VCALENDAR
METHOD:PUBLISH
X-WR-TIMEZONE:Europe/Berlin
PRODID:https://www.siwitermine.de
CALSCALE:GREGORIAN
VERSION:2.0
BEGIN:VTIMEZONE
TZID:Europe/Berlin
BEGIN:DAYLIGHT
TZOFFSETFROM:+0100
TZOFFSETTO:+0200
DTSTART:19810329T020000
RRULE:FREQ=YEARLY;BYMONTH=3;BYDAY=-1SU
TZNAME:CEST
END:DAYLIGHT
BEGIN:STANDARD
TZOFFSETFROM:+0200
TZOFFSETTO:+0100
DTSTART:19961027T030000
RRULE:FREQ=YEARLY;BYMONTH=10;BYDAY=-1SU
TZNAME:CET
END:STANDARD
END:VTIMEZONE
BEGIN:VEVENT
LOCATION:Technikmuseum Freudenberg | Olper Straße 5a | Freudenberg
SUMMARY:Modell-Truck-Show im Technikmuseum Freudenberg: |  Faszination auf Rädern
DESCRIPTION:Wenn die Miniatur-Trucks und über die eigens angelegte Vorführstrecke wie ihre großen Vorbilder tuckern, ist es endlich wieder so weit: Die Modell-Truck Freunde Siegtal gastieren wieder im Technikmuseum Freudenberg und bringen die Augen von kleinen und großen Technikfans zum Leuchten. Das beliebte Event gehört seit vielen Jahren fest zum Veranstaltungsprogramm des Museums und lockt regelmäßig Hunderte Besucher aus der Region und darüber hinaus an. Mit viel Liebe zum Detail präsentieren die Modellbauer ihre originalgetreu nachgebauten Trucks, Baumaschinen, Feuerwehr- und Spezialfahrzeuge, die auf dem Parcours eindrucksvoll ihr Können unter Beweis stellen. Ein besonderes Highlight für die kleinen Gäste: In der MTF-Fahrschule können Kinder gegen eine Spende ihren eigenen Modell-Truck-Führerschein erwerben. Doch nicht nur die Miniaturwelt steht im Fokus: Auch die bewährten Attraktionen des Technikmuseums wie die historische Dampfmaschine und die mechanische Werkstatt werden vorgeführt. Auch die Gartenbahn des Museums lädt groß und klein zu einer gemütlichen Fahrt entlang des idyllischen Weiherdamms am Eicher-Weihe ein. Und bei einem Caffee oder Kakao und einer Schrauberwaffel oder einer Bratwurst kann man es sich Schrauberstübchen so richtig gemütlich machen. Das Technikmuseum sowie die Modell Truck Freunde Siegtal freuen sich auf zahlreiche Besucher und einen erlebnisreichen Tag für die ganze Familie. Für das leibliche Wohl ist ebenfalls gesorgt. Weitere Informationen unter www.technikmuseum-freudenberg.de oder www.mtf-siegtal.de  | Info: 0178 160 5480 | https://www.siwitermine.de/63028 
UID:siwitermine/63028/2026-05-03  
CLASS:PUBLIC
DTSTART;TZID=Europe/Berlin:20260503T100000
DTEND;TZID=Europe/Berlin:20260503T100000
DTSTAMP:20260422T110902
END:VEVENT
END:VCALENDAR
