BEGIN:VCALENDAR
METHOD:PUBLISH
X-WR-TIMEZONE:Europe/Berlin
PRODID:https://www.siwitermine.de
CALSCALE:GREGORIAN
VERSION:2.0
BEGIN:VTIMEZONE
TZID:Europe/Berlin
BEGIN:DAYLIGHT
TZOFFSETFROM:+0100
TZOFFSETTO:+0200
DTSTART:19810329T020000
RRULE:FREQ=YEARLY;BYMONTH=3;BYDAY=-1SU
TZNAME:CEST
END:DAYLIGHT
BEGIN:STANDARD
TZOFFSETFROM:+0200
TZOFFSETTO:+0100
DTSTART:19961027T030000
RRULE:FREQ=YEARLY;BYMONTH=10;BYDAY=-1SU
TZNAME:CET
END:STANDARD
END:VTIMEZONE
BEGIN:VEVENT
LOCATION:Bruchwerk Theater | Siegbergstraße 1 | 57072 Siegen
SUMMARY:QUIZZEN FÜR DAS BRUCHWERK | Ein Abend voller feuriger Fragen. Organisiert vom Förderverein des Theaters
DESCRIPTION:Wie viele Werkstattprojekte hat das Bruchwerk Theater bisher auf die Bühne gebracht? Und was ist eigentlich die Hauptstadt von Bolivien? Du weißt die Antwort - dann komm zum Quizzen für das Bruchwerk! In verschiedenen Kategorien und unterschiedlichen Schwierigkeitsstufen muss dein Team mit Schwarmintelligenz glänzen. Von Fragen über Kunst und Kultur des Siegerlandes bis hin zu Flaggenkunde wird alles abgefragt. Könnt ihr euer Wissen unter Beweis stellen und den Sieg mit Nachhause nehmen? Der Abend wir organisiert vom Förderverein des Bruchwerk Theaters. Alle Einnahmen des Abends kommen dem Förderverein zugute und unterstützen damit die Arbeit im Bruchwerk Theater. Freut euch auf einen ausgeklügelten Abend mit feurigen Fragen! | Info: 0271 809 18 968 | https://www.siwitermine.de/63018 
UID:siwitermine/63018/2026-04-23-2W  
CLASS:PUBLIC
DTSTART;TZID=Europe/Berlin:20260501T193000
DTEND;TZID=Europe/Berlin:20260501T193000
DTSTAMP:20260421T111837
END:VEVENT
END:VCALENDAR
