BEGIN:VCALENDAR
METHOD:PUBLISH
X-WR-TIMEZONE:Europe/Berlin
PRODID:https://www.siwitermine.de
CALSCALE:GREGORIAN
VERSION:2.0
BEGIN:VTIMEZONE
TZID:Europe/Berlin
BEGIN:DAYLIGHT
TZOFFSETFROM:+0100
TZOFFSETTO:+0200
DTSTART:19810329T020000
RRULE:FREQ=YEARLY;BYMONTH=3;BYDAY=-1SU
TZNAME:CEST
END:DAYLIGHT
BEGIN:STANDARD
TZOFFSETFROM:+0200
TZOFFSETTO:+0100
DTSTART:19961027T030000
RRULE:FREQ=YEARLY;BYMONTH=10;BYDAY=-1SU
TZNAME:CET
END:STANDARD
END:VTIMEZONE
BEGIN:VEVENT
LOCATION:Gaststätte Yellowstone Harbach | Locherhofer Str. 4
SUMMARY:itzend | Akustik Duo: Oldies, Rock`n´Roll und mehr  zum Feiern in den 1. Mai
DESCRIPTION:itzend bringen im Duo 100% handgemachte Musik zum Klingen und sind dabei absolut partytauglich!!! Mit ihren markanten Stimmen, kräftigem Gitarrensound und einem treibenden Cajon spielen sie Oldies und erdige Klassiker der Rock- und Pop Geschichte mit Schwerpunkt der 60er, 70er und 80er Jahre sowie manches mehr...  | Info: 017668045046 | https://www.siwitermine.de/63027 
UID:siwitermine/63027/2026-04-21-2W  
CLASS:PUBLIC
DTSTART;TZID=Europe/Berlin:20260430T200000
DTEND;TZID=Europe/Berlin:20260430T200000
DTSTAMP:20260422T110600
END:VEVENT
END:VCALENDAR
