BEGIN:VCALENDAR
METHOD:PUBLISH
X-WR-TIMEZONE:Europe/Berlin
PRODID:https://www.siwitermine.de
CALSCALE:GREGORIAN
VERSION:2.0
BEGIN:VTIMEZONE
TZID:Europe/Berlin
BEGIN:DAYLIGHT
TZOFFSETFROM:+0100
TZOFFSETTO:+0200
DTSTART:19810329T020000
RRULE:FREQ=YEARLY;BYMONTH=3;BYDAY=-1SU
TZNAME:CEST
END:DAYLIGHT
BEGIN:STANDARD
TZOFFSETFROM:+0200
TZOFFSETTO:+0100
DTSTART:19961027T030000
RRULE:FREQ=YEARLY;BYMONTH=10;BYDAY=-1SU
TZNAME:CET
END:STANDARD
END:VTIMEZONE
BEGIN:VEVENT
LOCATION:Q | Zaunstr. 1d | 57250 Netphen
SUMMARY:Der Pakt mit meinem Schutzengel | Sandra Halbe liest im Q aus ihrem neuen Roman
DESCRIPTION:Sandra Halbe legt mit Der Pakt mit meinem Schutzengel" ihren neuen Roman vor. Im Q liest sie auch ihrem Buch, das Magie, Emotionen und die Frage Was würdest du tun für ein bisschen mehr Zeit? miteinander verbindet. Darum gehts in der packenden Story: Vera wacht im Krankenhaus auf und der Albtraum beginnt, als sie denselben Tag immer wieder erleben muss. Gefangen in einer endlosen Schleife zwischen Leben und Tod, begegnet sie Ted, ihrem Schutzengel.Nur ist der gar nicht engelsgleich: Er raucht, flucht und lacht über die Idee von göttlicher Gnade. Er bietet ihr einen Pakt an: Etwas mehr Lebenszeit, doch den Preis verschweigt er ihr. Aus Verzweiflung stimmt Vera zu und setzt eine Kette von Ereignissen in Gang, die ihr Schicksal für immer verändern ... Infos und Anmeldung im Kalender auf qulturwerkstatt.de | Info: 015906129063 | https://www.siwitermine.de/62210 
UID:siwitermine/62210/2026-04-20  
CLASS:PUBLIC
DTSTART;TZID=Europe/Berlin:20260213T190000
DTEND;TZID=Europe/Berlin:20260213T190000
DTSTAMP:20260122T081523
END:VEVENT
END:VCALENDAR
