BEGIN:VCALENDAR
METHOD:PUBLISH
X-WR-TIMEZONE:Europe/Berlin
PRODID:https://www.siwitermine.de
CALSCALE:GREGORIAN
VERSION:2.0
BEGIN:VTIMEZONE
TZID:Europe/Berlin
BEGIN:DAYLIGHT
TZOFFSETFROM:+0100
TZOFFSETTO:+0200
DTSTART:19810329T020000
RRULE:FREQ=YEARLY;BYMONTH=3;BYDAY=-1SU
TZNAME:CEST
END:DAYLIGHT
BEGIN:STANDARD
TZOFFSETFROM:+0200
TZOFFSETTO:+0100
DTSTART:19961027T030000
RRULE:FREQ=YEARLY;BYMONTH=10;BYDAY=-1SU
TZNAME:CET
END:STANDARD
END:VTIMEZONE
BEGIN:VEVENT
LOCATION:Viktoria Filmtheater Hilchenbach-Dahlbruch | Bernhard-Weiss-Platz 6
SUMMARY:Spiel mir das Lied vom Tod | 
DESCRIPTION:(I/USA 1968, 164 Min., ab 16 Jahren): Der Eisenbahn-Besitzer Morton träumt davon, sein Eisenbahnnetz bis zum Pazifik auszubauen. Dafür benötigt er aber die zur Betankung von Dampflokomotiven wichtige Wasserstelle Sweetwater. Doch statt den Besitzer Ed McBain auftragsgemäß einzuschüchtern, erschießt der skrupellose Frank (Henry Fonda) den Mann sowie seine drei Kinder und lenkt den Verdacht auf den Outlaw Cheyenne (Jason Robards). Noch am selben Tag reist aus New Orleans McBains bis dato unbekannte Ehefrau Jill (Claudia Cardinale) an und an einer einsamen Bahnstation steigt ein namenloser Mundharmonika-Spieler (Charles Bronson) aus dem Zug. "Sergio Leones barocke Pferdeoper ist Resümee, Höhepunkt und Apotheose des Italowesterns, wobei klassische Genrevorbilder einer eigenwilligen Neuinterpretation unterzogen werden." (Filmdienst) "Ich habe den Film erstmals als Fünfzehnjähriger im "Krönchen" in der Siegener Oberstadt gesehen. Vor lauter Angst, vom Platzanweiser als zu jung entlarvt und aus dem Saal geworfen zu werden, habe ich kaum etwas vom Film mitbekommen. Heute liebe ich den Film für die vielen Anekdoten, die es über die Dreharbeiten gibt: So sollten z.B. in der Eröffnungssequenz eigentlich Lee van Cleef, Eli Wallach und Clint Eastwood auftreten." (Jochen Manderbach) | Info: 02733/61467 | https://www.siwitermine.de/63032 
UID:siwitermine/63032/2026-04-19-2W  
CLASS:PUBLIC
DTSTART;TZID=Europe/Berlin:20260426T190000
DTEND;TZID=Europe/Berlin:20260426T190000
DTSTAMP:20260422T112203
END:VEVENT
END:VCALENDAR
