BEGIN:VCALENDAR
METHOD:PUBLISH
X-WR-TIMEZONE:Europe/Berlin
PRODID:https://www.siwitermine.de
CALSCALE:GREGORIAN
VERSION:2.0
BEGIN:VTIMEZONE
TZID:Europe/Berlin
BEGIN:DAYLIGHT
TZOFFSETFROM:+0100
TZOFFSETTO:+0200
DTSTART:19810329T020000
RRULE:FREQ=YEARLY;BYMONTH=3;BYDAY=-1SU
TZNAME:CEST
END:DAYLIGHT
BEGIN:STANDARD
TZOFFSETFROM:+0200
TZOFFSETTO:+0100
DTSTART:19961027T030000
RRULE:FREQ=YEARLY;BYMONTH=10;BYDAY=-1SU
TZNAME:CET
END:STANDARD
END:VTIMEZONE
BEGIN:VEVENT
LOCATION:Viktoria Filmtheater Hilchenbach-Dahlbruch | Bernhard-Weiss-Platz 6
SUMMARY:Der schwarze Falke | 
DESCRIPTION: (USA 1956, 119 Min., ab 12 Jahren): Texas, 1868: Drei Jahre nach dem Ende des Sezessionskriegs besucht Ethan Edwards (John Wayne) seinen Bruder Aaron und dessen Familie. Als diese von den Comanchen überfallen und getötet werden, macht sich Ethan auf die Suche nach seiner entführten Nichte Debbie, die er erst fünf Jahre später im Zelt des Häuptlings Schwarzer Falke wiederfindet. Der Western-Spezialist John Ford und sein Lieblingsdarsteller John Wayne schufen ein Meisterwerk des Genres - eine Reise in das finstere Herz des Wilden Westens, von der man nicht unbeschadet zurückkommt. "Der schwarze Falke" hat Generationen von Filmemachern (u.a. Martin Scorsese, Steven Spielberg, George Lucas und selbst Jean-Luc Godard) geprägt. "Wenn ich bis zu meinem Lebensende nur noch einen Film sehen dürfte, dann wäre das Der schwarze Falke!" (Jochen Manderbach) | Info: 02733/61467 | https://www.siwitermine.de/63036 
UID:siwitermine/63036/2026-04-18-2W  
CLASS:PUBLIC
DTSTART;TZID=Europe/Berlin:20260430T200000
DTEND;TZID=Europe/Berlin:20260430T200000
DTSTAMP:20260422T112640
END:VEVENT
END:VCALENDAR
