BEGIN:VCALENDAR
METHOD:PUBLISH
X-WR-TIMEZONE:Europe/Berlin
PRODID:https://www.siwitermine.de
CALSCALE:GREGORIAN
VERSION:2.0
BEGIN:VTIMEZONE
TZID:Europe/Berlin
BEGIN:DAYLIGHT
TZOFFSETFROM:+0100
TZOFFSETTO:+0200
DTSTART:19810329T020000
RRULE:FREQ=YEARLY;BYMONTH=3;BYDAY=-1SU
TZNAME:CEST
END:DAYLIGHT
BEGIN:STANDARD
TZOFFSETFROM:+0200
TZOFFSETTO:+0100
DTSTART:19961027T030000
RRULE:FREQ=YEARLY;BYMONTH=10;BYDAY=-1SU
TZNAME:CET
END:STANDARD
END:VTIMEZONE
BEGIN:VEVENT
LOCATION:Viktoria Filmtheater Hilchenbach-Dahlbruch | Bernhard-Weiss-Platz 6
SUMMARY:Heat | 
DESCRIPTION:(USA 1995, 171 Min., ab 16 Jahren): Neil McCauley (Robert De Niro) ist ein eiskalter Profigangster, der in Los Angelos mit seiner Crew sorgfältig geplante Überfälle begeht. Um die Bande auszuschalten, setzt der fanatische Cop Vincent Hanna (Al Pacino) alles aufs Spiel. Es entbrennt ein Duell zweier Männer, die zwar auf verschiedenen Seiten des Gesetzes stehen, sich aber ansonsten ähnlicher sind, als sie selbst zugeben würden. Mit "Heat" drehte Regisseur Michael Mann ("Miami Vice", "Collateral") "einen ungewöhnlich fesselnden Polizei- und Gangsterfilm, dessen Handlung mehr und mehr existenzielle Dimensionen annimmt und zu einem ebenso fatalistischen wie menschlich bewegenden Ende führt." (Filmdienst) "Auch nach 30 Jahren hat Heat nichts von seiner Intensität und seiner Tragik verloren. Was Spiel mir das Lied vom Tod für das Western-Genre ist, ist Heat für den Kriminalfilm!" (Jochen Manderbach) | Info: 02733/61467 | https://www.siwitermine.de/63034 
UID:siwitermine/63034/2026-04-18-2W  
CLASS:PUBLIC
DTSTART;TZID=Europe/Berlin:20260428T200000
DTEND;TZID=Europe/Berlin:20260428T200000
DTSTAMP:20260422T112442
END:VEVENT
END:VCALENDAR
