BEGIN:VCALENDAR
METHOD:PUBLISH
X-WR-TIMEZONE:Europe/Berlin
PRODID:https://www.siwitermine.de
CALSCALE:GREGORIAN
VERSION:2.0
BEGIN:VTIMEZONE
TZID:Europe/Berlin
BEGIN:DAYLIGHT
TZOFFSETFROM:+0100
TZOFFSETTO:+0200
DTSTART:19810329T020000
RRULE:FREQ=YEARLY;BYMONTH=3;BYDAY=-1SU
TZNAME:CEST
END:DAYLIGHT
BEGIN:STANDARD
TZOFFSETFROM:+0200
TZOFFSETTO:+0100
DTSTART:19961027T030000
RRULE:FREQ=YEARLY;BYMONTH=10;BYDAY=-1SU
TZNAME:CET
END:STANDARD
END:VTIMEZONE
BEGIN:VEVENT
LOCATION:Viktoria Filmtheater Hilchenbach-Dahlbruch | Bernhard-Weiss-Platz 6
SUMMARY:Mr. May und das Flüstern der Ewigkeit | 
DESCRIPTION: (GB/I 2014, 92 Min., ab 12 Jahren): John May (James Marsan) arbeitet im Auftrag der Stadtverwaltung von London als "Funeral Officer": Seine Aufgabe ist es, Angehörige und Bekannte von Menschen aufzuspüren, die einsam gestorben sind. Er schreibt einfühlsame Reden, kümmert sich um die letzten Dinge und organisiert die Beerdigungen, auf denen er meist der einzige Trauergast ist. Als seine Abteilung aufgelöst wird, stürzt er sich voller Tatendrang und Verzweiflung in seinen letzten Fall. Nach eigenem Drehbuch schuf Regisseur Uberto Pasolini ("Rückkehr nach Ithaka") eine "liebevolle, hervorragend gespielte Komödie, die dem ernsten Thema gesellschaftlicher Vereinsamung mit britischem Humor, vor allem aber mit großer Einfühlsamkeit begegnet." (Filmdienst) "Wer beim Ende des Films keinen Klos im Hals hat, hat kein Herz." (Jochen Manderbach) | Info: 02733/61467 | https://www.siwitermine.de/63033 
UID:siwitermine/63033/2026-04-18-2W  
CLASS:PUBLIC
DTSTART;TZID=Europe/Berlin:20260427T200000
DTEND;TZID=Europe/Berlin:20260427T200000
DTSTAMP:20260422T112335
END:VEVENT
END:VCALENDAR
