BEGIN:VCALENDAR
METHOD:PUBLISH
X-WR-TIMEZONE:Europe/Berlin
PRODID:https://www.siwitermine.de
CALSCALE:GREGORIAN
VERSION:2.0
BEGIN:VTIMEZONE
TZID:Europe/Berlin
BEGIN:DAYLIGHT
TZOFFSETFROM:+0100
TZOFFSETTO:+0200
DTSTART:19810329T020000
RRULE:FREQ=YEARLY;BYMONTH=3;BYDAY=-1SU
TZNAME:CEST
END:DAYLIGHT
BEGIN:STANDARD
TZOFFSETFROM:+0200
TZOFFSETTO:+0100
DTSTART:19961027T030000
RRULE:FREQ=YEARLY;BYMONTH=10;BYDAY=-1SU
TZNAME:CET
END:STANDARD
END:VTIMEZONE
BEGIN:VEVENT
LOCATION:fusion lab · Stadt- und Regionallabor Siegen | Sandstraße 22a | Siegen
SUMMARY:Cycling Cities - Eine Reise zu den schönsten Fahrradstädten Europas | Filmabend und Diskussion mit Ingwar Perowanowitsch
DESCRIPTION:Im Mai 2025 bricht der Journalist und Filmemacher Ingwar Perowanowitsch auf eine Radreise zu den schönsten Fahrradstädten Europas auf. Sein Weg führt ihn von Freiburg nach Paris, über Gent, Amsterdam, Utrecht und Hamburg bis nach Kopenhagen. Er möchte wissen: Wie haben diese Städte die Verkehrswende geschafft und was können wir in Deutschland von ihnen lernen? Perowanowitsch dokumentiert mit der Kamera, wie sich die Städte über die letzten Jahre und Jahrzehnte verändert haben, spricht vor Ort mit Politikern, Verkehrsplanern und Aktivisten und erzählt, welche Maßnahmen und Strategien am Ende zum Erfolg geführt haben. Entstanden ist dabei ein bildgewaltiger Film, der eine neue Geschichte der Mobilität erzählt. Ein Film, der inspiriert, zum Nachdenken anregt und dazu einlädt, unsere Städte von Grund auf neu zu denken. Im Anschluss findet eine Diskussion in Anwesenheit des Filmemachers Ingwar Perowanowitsch statt. Die Veranstaltung findet in Kooperation von fusion lab, KulturGRÜN und adfc Siegen-Wittgenstein statt. Der Eintritt ist frei. Dokumentarfilm, BD, 2025, 84Min. | Info: 015225875882 | https://www.siwitermine.de/63039 
UID:siwitermine/63039/2026-04-01-2W  
CLASS:PUBLIC
DTSTART;TZID=Europe/Berlin:20260413T190000
DTEND;TZID=Europe/Berlin:20260413T190000
DTSTAMP:20260423T153150
END:VEVENT
END:VCALENDAR
