BEGIN:VCALENDAR
METHOD:PUBLISH
X-WR-TIMEZONE:Europe/Berlin
PRODID:https://www.siwitermine.de
CALSCALE:GREGORIAN
VERSION:2.0
BEGIN:VTIMEZONE
TZID:Europe/Berlin
BEGIN:DAYLIGHT
TZOFFSETFROM:+0100
TZOFFSETTO:+0200
DTSTART:19810329T020000
RRULE:FREQ=YEARLY;BYMONTH=3;BYDAY=-1SU
TZNAME:CEST
END:DAYLIGHT
BEGIN:STANDARD
TZOFFSETFROM:+0200
TZOFFSETTO:+0100
DTSTART:19961027T030000
RRULE:FREQ=YEARLY;BYMONTH=10;BYDAY=-1SU
TZNAME:CET
END:STANDARD
END:VTIMEZONE
BEGIN:VEVENT
LOCATION:Q | Zaunstr. 1d | 57250 Netphen
SUMMARY:Stage Bar Q: Qoncert & Cocktails im Q | Liedermacherin Paula Linke verteilt musikalische Küsse! Mehr Küsse!
DESCRIPTION:Mutig, freundlich und mit einer großen Portion Humor erzählt Paula Linke pointierte Geschichten aus dem Leben. Dabei wird klar: So zart und unschuldig, wie die Leipziger Liedermacherin aussieht, ist sie wahrhaftig nicht. Auch deshalb wurde sie bereits mit der Hoyschrecke sowie dem Venner FolkPreis ausgezeichnet und in die Shortlist des Rio Reiser Songpreises aufgenommen. Nun kommt sie mit ihrem neuen Programm "Küsse! Mehr Küsse!" live ins Q. Seid dabei und freut euch auf ein Qoncert voll mit stimmungsvollen Lied-Küssen, die sich mit sympathischen Monolog-Küssen abwechseln. Und auch das ist gewiss: Euch erwarten viele musikalische Liebeserklärungen an das Zwischenmenschliche, denn Paula Linke versteht es wunderbar, ihre Alltagsbeobachtungen und Gedankenexperimente in mitnehmende Songs zu verwandeln. Tipp: An diesem Abend hat vor Ort die Stage Bar Q geöffnet. Neben klassischen Erfrischungsgetränken sind diesmal auch Cocktails für euch im Angebot. Um Anmeldung wird gebeten im Kalender auf www.qulturwerkstatt.de  | Info: 015906129063 | https://www.siwitermine.de/62507 
UID:siwitermine/62507/2026-03-27  
CLASS:PUBLIC
DTSTART;TZID=Europe/Berlin:20260327T193000
DTEND;TZID=Europe/Berlin:20260327T193000
DTSTAMP:20260305T143310
END:VEVENT
END:VCALENDAR
