BEGIN:VCALENDAR
METHOD:PUBLISH
X-WR-TIMEZONE:Europe/Berlin
PRODID:https://www.siwitermine.de
CALSCALE:GREGORIAN
VERSION:2.0
BEGIN:VTIMEZONE
TZID:Europe/Berlin
BEGIN:DAYLIGHT
TZOFFSETFROM:+0100
TZOFFSETTO:+0200
DTSTART:19810329T020000
RRULE:FREQ=YEARLY;BYMONTH=3;BYDAY=-1SU
TZNAME:CEST
END:DAYLIGHT
BEGIN:STANDARD
TZOFFSETFROM:+0200
TZOFFSETTO:+0100
DTSTART:19961027T030000
RRULE:FREQ=YEARLY;BYMONTH=10;BYDAY=-1SU
TZNAME:CET
END:STANDARD
END:VTIMEZONE
BEGIN:VEVENT
LOCATION:Aktives Museum Südwestfalen | Siegen | Obergraben 10
SUMMARY:Jüdisches Leben in Siegen - Teil 2 | Flucht und Deportation
DESCRIPTION:Der zweite Teil der Reihe Jüdisches Leben in Siegen befasst sich mit der Enteignung und Deportation von Dutzenden jüdischer Siegener Familien, die unter unmenschlichen Bedingungen in die verschiedenen Konzentrationslager verbracht wurden. Ausgangsort zu dieser Reise ohne Wiederkehr war der Siegener Bahnhof. Eindringlich und unterstützt durch diverses Bildmaterial lässt Traute Fries das traurige Schicksal jüdischer Siegener wieder lebendig werden. | Info: +49 (0)271 3038280 | https://www.siwitermine.de/62440 
UID:siwitermine/62440/2026-03-22  
CLASS:PUBLIC
DTSTART;TZID=Europe/Berlin:20260322T150000
DTEND;TZID=Europe/Berlin:20260322T150000
DTSTAMP:20260225T085633
END:VEVENT
END:VCALENDAR
