BEGIN:VCALENDAR
METHOD:PUBLISH
X-WR-TIMEZONE:Europe/Berlin
PRODID:https://www.siwitermine.de
CALSCALE:GREGORIAN
VERSION:2.0
BEGIN:VTIMEZONE
TZID:Europe/Berlin
BEGIN:DAYLIGHT
TZOFFSETFROM:+0100
TZOFFSETTO:+0200
DTSTART:19810329T020000
RRULE:FREQ=YEARLY;BYMONTH=3;BYDAY=-1SU
TZNAME:CEST
END:DAYLIGHT
BEGIN:STANDARD
TZOFFSETFROM:+0200
TZOFFSETTO:+0100
DTSTART:19961027T030000
RRULE:FREQ=YEARLY;BYMONTH=10;BYDAY=-1SU
TZNAME:CET
END:STANDARD
END:VTIMEZONE
BEGIN:VEVENT
LOCATION:Jugendmusikschule Wilnsdorf | Rathausstr. 9
SUMMARY:Cafékonzert der Musikschule Wilnsdorf | 
DESCRIPTION:Was passt besser zu einem gemütlichen Nachmittag als eine Tasse Kaffee und eine frisch gebackene Waffel? Die Musikschule Wilnsdorf ergänzt diese Genussmomente noch mit Livemusik denn die Musikschülerinnen und -schüler laden zum diesjährigen Cafékonzert in die Festhalle Wilnsdorf ein. Mit einem breit gefächerten Programm von Klassik bis Rock/Pop erklingen dort um 15 Uhr die ersten Töne. Das bunte Musikprogramm bietet viel Abwechslung in stimmungsvoller Atmosphäre. Waffeln und Kaffee werden von der offenen Kinder- und Jugendarbeit Wilnsdorf und der Musikschule gemeinsam angeboten. Nach dem Konzert ist außerdem noch Zeit, mit den Schülerinnen und Schülern und Lehrerinnen und Lehrern ins Gespräch zu kommen und sich auszutauschen. Die Idee des Cafékonzerts ist nämlich auch, Kindern und Jugendlichen, die ein Instrument erlernen möchten, sowie deren Eltern, die Gelegenheit zu bieten, sich über die Möglichkeiten der Musikschule Wilnsdorf zu informieren. Der Eintritt ist kostenlos.  | Info: . | https://www.siwitermine.de/62516 
UID:siwitermine/62516/2026-03-21  
CLASS:PUBLIC
DTSTART;TZID=Europe/Berlin:20260321T150000
DTEND;TZID=Europe/Berlin:20260321T150000
DTSTAMP:20260309T132230
END:VEVENT
END:VCALENDAR
