BEGIN:VCALENDAR
METHOD:PUBLISH
X-WR-TIMEZONE:Europe/Berlin
PRODID:https://www.siwitermine.de
CALSCALE:GREGORIAN
VERSION:2.0
BEGIN:VTIMEZONE
TZID:Europe/Berlin
BEGIN:DAYLIGHT
TZOFFSETFROM:+0100
TZOFFSETTO:+0200
DTSTART:19810329T020000
RRULE:FREQ=YEARLY;BYMONTH=3;BYDAY=-1SU
TZNAME:CEST
END:DAYLIGHT
BEGIN:STANDARD
TZOFFSETFROM:+0200
TZOFFSETTO:+0100
DTSTART:19961027T030000
RRULE:FREQ=YEARLY;BYMONTH=10;BYDAY=-1SU
TZNAME:CET
END:STANDARD
END:VTIMEZONE
BEGIN:VEVENT
LOCATION:Forsthaus Hohenroth | Eisenstrasse  |L722 | Netphen
SUMMARY:MALLORCA & MENORCA | Eine außergewöhnliche Foto-Rundreise durch die Gebirgs- und Küstenregionen der Inseln
DESCRIPTION:Gerhard Knappstein zeigt von den Inseln eine beeindruckende Sammlung von Bildern. Die Insel Mallorca ist von einer enormen Landschaftsvielfalt geprägt. Es gibt das schroffe Tramuntana-Gebirge, bekannte und verborgene Sandstrände, die Inselmetropole Palma und beschauliche Dörfer. Das Landschaftsbild von Menorca ist geprägt durch weite Weiden und Äcker mit unendlichen Trockenmauern, ausgedehnten Wäldern und durch die über 300 km Küste. Die größtenteils unbebaute Küste hat teils felsige Steilufer mit schroffen Felsformationen und tief eingeschnittenen Buchten, sowie teils weite Sandstrände. Eintritt frei!  | Info: 0178 9884076 | https://www.siwitermine.de/62273 
UID:siwitermine/62273/2026-03-19-2W  
CLASS:PUBLIC
DTSTART;TZID=Europe/Berlin:20260328T160000
DTEND;TZID=Europe/Berlin:20260328T160000
DTSTAMP:20260217T124643
END:VEVENT
END:VCALENDAR
