BEGIN:VCALENDAR
METHOD:PUBLISH
X-WR-TIMEZONE:Europe/Berlin
PRODID:https://www.siwitermine.de
CALSCALE:GREGORIAN
VERSION:2.0
BEGIN:VTIMEZONE
TZID:Europe/Berlin
BEGIN:DAYLIGHT
TZOFFSETFROM:+0100
TZOFFSETTO:+0200
DTSTART:19810329T020000
RRULE:FREQ=YEARLY;BYMONTH=3;BYDAY=-1SU
TZNAME:CEST
END:DAYLIGHT
BEGIN:STANDARD
TZOFFSETFROM:+0200
TZOFFSETTO:+0100
DTSTART:19961027T030000
RRULE:FREQ=YEARLY;BYMONTH=10;BYDAY=-1SU
TZNAME:CET
END:STANDARD
END:VTIMEZONE
BEGIN:VEVENT
LOCATION:Stadtbibliothek Siegen | Krönchen Center | Markt 25 | Siegen
SUMMARY:Vorlesestunde für Kinder ab 4 Jahren | 
DESCRIPTION:Mit großen Augen einer Geschichte lauschen und gleich in eine andere Welt eintauchen: Kinder ab vier Jahren können sich auf eine Vorlesestunde in der Stadtbibliothek Siegen freuen. Vorgelesen wird aus dem Bilderbuch "Als die Wolke bei uns wohnte" von Sabine Bohlmann und Susanne Straßer. Die Geschichte erzählt von einer Familie, die plötzlich eine ungewöhnliche Mitbewohnerin bekommt: Statt eines Haustiers zieht eine Wolke ein. Sie braucht Aufmerksamkeit und Fürsorge und sorgt immer wieder für überraschende Situationen im Alltag - von großen Pfützen bis zu unerwarteten Abenteuern. Im Anschluss an die Vorlesestunde wird gemeinsam gemalt oder gebastelt. Der Eintritt ist frei, und eine Anmeldung ist nicht erforderlich. Gruppen ab sechs Kindern sollten sich jedoch vorher unter der Telefonnummer (0271) 404-3026 oder per E-Mail an stadtbibliothek@siegen.de anmelden. | Info: 0271 404-3011 | https://www.siwitermine.de/62443 
UID:siwitermine/62443/2026-03-19  
CLASS:PUBLIC
DTSTART;TZID=Europe/Berlin:20260319T160000
DTEND;TZID=Europe/Berlin:20260319T160000
DTSTAMP:20260225T092011
END:VEVENT
END:VCALENDAR
