BEGIN:VCALENDAR
METHOD:PUBLISH
X-WR-TIMEZONE:Europe/Berlin
PRODID:https://www.siwitermine.de
CALSCALE:GREGORIAN
VERSION:2.0
BEGIN:VTIMEZONE
TZID:Europe/Berlin
BEGIN:DAYLIGHT
TZOFFSETFROM:+0100
TZOFFSETTO:+0200
DTSTART:19810329T020000
RRULE:FREQ=YEARLY;BYMONTH=3;BYDAY=-1SU
TZNAME:CEST
END:DAYLIGHT
BEGIN:STANDARD
TZOFFSETFROM:+0200
TZOFFSETTO:+0100
DTSTART:19961027T030000
RRULE:FREQ=YEARLY;BYMONTH=10;BYDAY=-1SU
TZNAME:CET
END:STANDARD
END:VTIMEZONE
BEGIN:VEVENT
LOCATION:Viktoria Filmtheater Hilchenbach-Dahlbruch | Bernhard-Weiss-Platz 6
SUMMARY:Oscar-Nominierung 2026 | Hamnet
DESCRIPTION:(USA 2025, 126 Min., ab 12 Jahren): Im Jahr 1580 heiratet die Heilerin Agnes Hathaway aus der kleinen Stadt Stratford-upon-Avon den Lateinlehrer William Shakespeare. Sie bekommen drei Kinder und auch wenn sich Shakespeare oft in London aufhält, um dort Karriere als Bühnenautor zu machen, verläuft das Familienleben glücklich. Als der elfjährige Sohn Hamnet an der Pest stirbt, verarbeitet Shakespeare seine Trauer in dem Drama "Hamlet". Regisseurin Chloé Zhao ("Nomadland") schuf "ein großartig fotografiertes und in den Hauptrollen eindringlich gespieltes Melodram." (Filmdienst) "Hamnet" wurde mit zwei Golden Globes ausgzeichnet und ist für acht Oscars nominiert! | Info: 02733 61467 | https://www.siwitermine.de/62562 
UID:siwitermine/62562/2026-03-18-2W  
CLASS:PUBLIC
DTSTART;TZID=Europe/Berlin:20260322T200000
DTEND;TZID=Europe/Berlin:20260322T200000
DTSTAMP:20260318T142818
END:VEVENT
END:VCALENDAR
