BEGIN:VCALENDAR
METHOD:PUBLISH
X-WR-TIMEZONE:Europe/Berlin
PRODID:https://www.siwitermine.de
CALSCALE:GREGORIAN
VERSION:2.0
BEGIN:VTIMEZONE
TZID:Europe/Berlin
BEGIN:DAYLIGHT
TZOFFSETFROM:+0100
TZOFFSETTO:+0200
DTSTART:19810329T020000
RRULE:FREQ=YEARLY;BYMONTH=3;BYDAY=-1SU
TZNAME:CEST
END:DAYLIGHT
BEGIN:STANDARD
TZOFFSETFROM:+0200
TZOFFSETTO:+0100
DTSTART:19961027T030000
RRULE:FREQ=YEARLY;BYMONTH=10;BYDAY=-1SU
TZNAME:CET
END:STANDARD
END:VTIMEZONE
BEGIN:VEVENT
LOCATION:Viktoria Filmtheater Hilchenbach-Dahlbruch | Bernhard-Weiss-Platz 6
SUMMARY:Oscars 2026: Sentimental Value | 
DESCRIPTION:(D/DK/N 2025, 133 Min., ab 12 Jahren): Nach dem Tod ihrer Mutter müssen sich die Schwestern Nora und Agnes mit ihrem lange abwesenden Vater Gustav (Stellan Skarsgård), einem Filmregisseur, auseinandersetzen, der nach der Beerdigung plötzlich auftaucht. Gustav möchte seine Tochter Nora für die Hauptrolle in einem autobio- grafischen Film gewinnen. Als Nora empört ablehnt, engagiert er an ihrer Stelle die Hollywood-Schauspielerin Rachel (Elle Fanning). Der Film von Regisseur Joachim Trier verwebt "Trauer und Familienkonflikt zu einem vielschichtigen Drama, in dem Realität, Theater und Film immer wieder ineinander übergehen." (Filmdienst) Ausgezeichnet mit dem Großen Preis der Filmfestspiele Cannes 2025, sechs Europäischen Filmpreisen 2026 (u.a. Bester Film) sowie dem Osvcar als "Bester Internationaler Film"! Aufpreis 1,00 EUR wegen Überlänge. | Info: 02733 61467 | https://www.siwitermine.de/62552 
UID:siwitermine/62552/2026-03-18-2W  
CLASS:PUBLIC
DTSTART;TZID=Europe/Berlin:20260319T200000
DTEND;TZID=Europe/Berlin:20260319T200000
DTSTAMP:20260318T141857
END:VEVENT
END:VCALENDAR
