BEGIN:VCALENDAR
METHOD:PUBLISH
X-WR-TIMEZONE:Europe/Berlin
PRODID:https://www.siwitermine.de
CALSCALE:GREGORIAN
VERSION:2.0
BEGIN:VTIMEZONE
TZID:Europe/Berlin
BEGIN:DAYLIGHT
TZOFFSETFROM:+0100
TZOFFSETTO:+0200
DTSTART:19810329T020000
RRULE:FREQ=YEARLY;BYMONTH=3;BYDAY=-1SU
TZNAME:CEST
END:DAYLIGHT
BEGIN:STANDARD
TZOFFSETFROM:+0200
TZOFFSETTO:+0100
DTSTART:19961027T030000
RRULE:FREQ=YEARLY;BYMONTH=10;BYDAY=-1SU
TZNAME:CET
END:STANDARD
END:VTIMEZONE
BEGIN:VEVENT
LOCATION:Viktoria Filmtheater Hilchenbach-Dahlbruch | Bernhard-Weiss-Platz 6
SUMMARY:Kirchen & Kino: | Mit der Faust in die Welt schlagen
DESCRIPTION:(D 2024, 111 Min., ab 12 Jahren): Die beiden Brüder Philipp und Tobi wachsen in einem Dorf in Sachsen nahe der Grenze zu Polen auf. Ihre Kindheit ist geprägt von dem Zerfall der eigenen Familie und der Perspektivlosigkeit einer ganzen Region, was sie anfällig macht für rechtes Gedankengut. Als in der Nähe ein Flücht- lingsheim entstehen soll, eskaliert die Situation. Basierend auf dem Roman von Lukas Rietzschel entstand ein packendes Gesellschaftsporträt, das von den Brüchen in ostdeutschen Biografien handelt: "Einer der gelungensten Filme über Leben und Aufwachsen in der Provinz, die es in den letzten Jahren im deutschen Film zu sehen gab." (Filmstarts) | Info: 02733 61467 | https://www.siwitermine.de/62493 
UID:siwitermine/62493/2026-03-18-2W  
CLASS:PUBLIC
DTSTART;TZID=Europe/Berlin:20260318T200000
DTEND;TZID=Europe/Berlin:20260318T200000
DTSTAMP:20260311T105427
END:VEVENT
END:VCALENDAR
