BEGIN:VCALENDAR
METHOD:PUBLISH
X-WR-TIMEZONE:Europe/Berlin
PRODID:https://www.siwitermine.de
CALSCALE:GREGORIAN
VERSION:2.0
BEGIN:VTIMEZONE
TZID:Europe/Berlin
BEGIN:DAYLIGHT
TZOFFSETFROM:+0100
TZOFFSETTO:+0200
DTSTART:19810329T020000
RRULE:FREQ=YEARLY;BYMONTH=3;BYDAY=-1SU
TZNAME:CEST
END:DAYLIGHT
BEGIN:STANDARD
TZOFFSETFROM:+0200
TZOFFSETTO:+0100
DTSTART:19961027T030000
RRULE:FREQ=YEARLY;BYMONTH=10;BYDAY=-1SU
TZNAME:CET
END:STANDARD
END:VTIMEZONE
BEGIN:VEVENT
LOCATION:Villa Bubenzer | Villa-Bubenzer-Weg 7 | Freudenberg
SUMMARY:Candlelight-Lesungen (3. Auflage) | Mit Katharina Afflerbach
DESCRIPTION:2014 ging die gebürtige Kreuztalerin Katharina Afflerbach zum ersten Mal als Sennerin auf eine Alp. Raus aus Büro, Stress und Stadt, rein in das beschauliche Leben in den Bergen. Obwohl: Wieviel Heidi erlebt sie seither wirklich? Bewegende Lese-Show mit kleinen Wundern und großen Gefühlen! | Info: 02734-3836 | https://www.siwitermine.de/62039 
UID:siwitermine/62039/2026-03-18-2W  
CLASS:PUBLIC
DTSTART;TZID=Europe/Berlin:20260327T190000
DTEND;TZID=Europe/Berlin:20260327T190000
DTSTAMP:20260106T104533
END:VEVENT
END:VCALENDAR
