BEGIN:VCALENDAR
METHOD:PUBLISH
X-WR-TIMEZONE:Europe/Berlin
PRODID:https://www.siwitermine.de
CALSCALE:GREGORIAN
VERSION:2.0
BEGIN:VTIMEZONE
TZID:Europe/Berlin
BEGIN:DAYLIGHT
TZOFFSETFROM:+0100
TZOFFSETTO:+0200
DTSTART:19810329T020000
RRULE:FREQ=YEARLY;BYMONTH=3;BYDAY=-1SU
TZNAME:CEST
END:DAYLIGHT
BEGIN:STANDARD
TZOFFSETFROM:+0200
TZOFFSETTO:+0100
DTSTART:19961027T030000
RRULE:FREQ=YEARLY;BYMONTH=10;BYDAY=-1SU
TZNAME:CET
END:STANDARD
END:VTIMEZONE
BEGIN:VEVENT
LOCATION:Kulturhaus Lÿz | St.-Johann-Str. 18 | Siegen
SUMMARY:Filmklub Kurbelkiste | Die Rosenschlacht
DESCRIPTION:Tragikomödie, Vereinigte Staaten von Amerika 2025,105 Minuten, FSK 12. Regie: Jay Roach Für das Bilderbuchehepaar Ivy und Theo scheint das Leben wunderbar leicht zu sein: erfolgreiche Karrieren, eine liebevolle Ehe, großartige Kinder. Doch hinter der Fassade ihres vermeintlich perfekten Lebens braut sich ein Sturm zusammen. Als Theos Karriere einen empfindlichen Knick erleidet, nimmt Ivys hingegen steil an Fahrt auf. Zwischen den beiden entzündet sich ein explosives Feuerwerk aus harter Konkurrenz und versteckten Ressentiments. Die Rosenschlacht ist die Neuinterpretation des Filmklassikers Der Rosenkrieg von 1989, der auf dem gleichnamigen Roman von Warren Adler basiert.  | Info: 0271/333-2448 | https://www.siwitermine.de/61660 
UID:siwitermine/61660/2026-03-18-1W  
CLASS:PUBLIC
DTSTART;TZID=Europe/Berlin:20260324T190000
DTEND;TZID=Europe/Berlin:20260324T190000
DTSTAMP:20251120T154431
END:VEVENT
END:VCALENDAR
