BEGIN:VCALENDAR
METHOD:PUBLISH
X-WR-TIMEZONE:Europe/Berlin
PRODID:https://www.siwitermine.de
CALSCALE:GREGORIAN
VERSION:2.0
BEGIN:VTIMEZONE
TZID:Europe/Berlin
BEGIN:DAYLIGHT
TZOFFSETFROM:+0100
TZOFFSETTO:+0200
DTSTART:19810329T020000
RRULE:FREQ=YEARLY;BYMONTH=3;BYDAY=-1SU
TZNAME:CEST
END:DAYLIGHT
BEGIN:STANDARD
TZOFFSETFROM:+0200
TZOFFSETTO:+0100
DTSTART:19961027T030000
RRULE:FREQ=YEARLY;BYMONTH=10;BYDAY=-1SU
TZNAME:CET
END:STANDARD
END:VTIMEZONE
BEGIN:VEVENT
LOCATION:POOOL | Projektraum der gruppe 3/55 e.V. | Löhrstrasse 3 | 57072 Siegen
SUMMARY:carl roller & aaron stierl  - PSYCHOSE HEUTE | Ausstellung im POOOL, Löhrstr. 3, 57072 Siegen
DESCRIPTION:11.03.2026 bis 29.03.2026 | Mi. - Do. 18-20 Uhr | Fr. 16-19 Uhr | Sa. 11-14 uhr | der tanz des sortierens. eins hier hin, eins da hin. text text text blanko text text text text linie linie 0 strich farbe blanko sonderling viel text viel blanko wenig farbe, kleben kleben kleben. was machen wir hier eigentlich? Besichtigung während den Öffnungszeiten und nach vereinbarung an crast.2026@web.de möglich. | Info: 0163 9707912 / 0178 1343190 | https://www.siwitermine.de/62497 
UID:siwitermine/62497/2026-03-18  
CLASS:PUBLIC
DTSTART;TZID=Europe/Berlin:20260318T000000Z
DTEND;TZID=Europe/Berlin:20260318T000000Z
DTSTAMP:20260303T134510
END:VEVENT
END:VCALENDAR
