BEGIN:VCALENDAR
METHOD:PUBLISH
X-WR-TIMEZONE:Europe/Berlin
PRODID:https://www.siwitermine.de
CALSCALE:GREGORIAN
VERSION:2.0
BEGIN:VTIMEZONE
TZID:Europe/Berlin
BEGIN:DAYLIGHT
TZOFFSETFROM:+0100
TZOFFSETTO:+0200
DTSTART:19810329T020000
RRULE:FREQ=YEARLY;BYMONTH=3;BYDAY=-1SU
TZNAME:CEST
END:DAYLIGHT
BEGIN:STANDARD
TZOFFSETFROM:+0200
TZOFFSETTO:+0100
DTSTART:19961027T030000
RRULE:FREQ=YEARLY;BYMONTH=10;BYDAY=-1SU
TZNAME:CET
END:STANDARD
END:VTIMEZONE
BEGIN:VEVENT
LOCATION:Viktoria Filmtheater Hilchenbach-Dahlbruch | Bernhard-Weiss-Platz 6
SUMMARY:Dann passiert das Leben | 
DESCRIPTION: (D 2025, 123 Min., ab 6 Jahren): Der Schuldirektor Hans (Ulrich Tukur) steht kurz vor seiner Pensionierung. Doch Freude empfinden weder er noch seine Ehefrau Rita (Anke Engelke). Hans hat sich nach 35 Jahren Ehe längst in die innere Emigration zurückgezogen, während Rita im Alltag den Ton angibt. Doch dann passiert das Leben in Gestalt eines tragischen Unfalls. "Was wie ein schwermütiges Melodram klingen mag, kommt mit poetischem Charme, viel Gefühl und reichlich Humor daher. Mit Anke Engelke und Ulrich Tukur ist das Paar am Rande des Nerven- zusammenbruchs perfekt besetzt und bringt ein enormes Empathie-Potenzial ins Spiel." (Programmkino) | Info: 02733 61467 | https://www.siwitermine.de/62553 
UID:siwitermine/62553/2026-03-17-2J  
CLASS:PUBLIC
DTSTART;TZID=Europe/Berlin:20260320T170000
DTEND;TZID=Europe/Berlin:20260320T170000
DTSTAMP:20260318T142047
END:VEVENT
END:VCALENDAR
