BEGIN:VCALENDAR
METHOD:PUBLISH
X-WR-TIMEZONE:Europe/Berlin
PRODID:https://www.siwitermine.de
CALSCALE:GREGORIAN
VERSION:2.0
BEGIN:VTIMEZONE
TZID:Europe/Berlin
BEGIN:DAYLIGHT
TZOFFSETFROM:+0100
TZOFFSETTO:+0200
DTSTART:19810329T020000
RRULE:FREQ=YEARLY;BYMONTH=3;BYDAY=-1SU
TZNAME:CEST
END:DAYLIGHT
BEGIN:STANDARD
TZOFFSETFROM:+0200
TZOFFSETTO:+0100
DTSTART:19961027T030000
RRULE:FREQ=YEARLY;BYMONTH=10;BYDAY=-1SU
TZNAME:CET
END:STANDARD
END:VTIMEZONE
BEGIN:VEVENT
LOCATION:Bruchwerk Theater Siegen | Siegbergstraße 1 | Siegen
SUMMARY:WER PROBT, HAT ANGST | Improtheatershow
DESCRIPTION:Ohne Text und Vorbereitung, dafür mit Spontaneität, Kreativität und einer unbändigen Lust am Spiel bewaffnet - So treten Spieler*innen der Improwerkstatt des Bruchwerk Theaters in diesem Wettkampf der improvisierten Superlative gegeneinander an. Eine romantischen Szene bei Mondschein, gefällig? Aber bitte als Stummfilm! Oder wie wäre es mit einem Krimi-Musical? Mit Zombies, bitteschön! Hier werden garantiert respektlos alle Konventionen durchbrochen - es geht schließlich um die Gunst des Publikums. | Info: 0271 809 18 968 | https://www.siwitermine.de/61988 
UID:siwitermine/61988/2026-03-02-2W  
CLASS:PUBLIC
DTSTART;TZID=Europe/Berlin:20260307T193000
DTEND;TZID=Europe/Berlin:20260307T193000
DTSTAMP:20260102T115957
END:VEVENT
END:VCALENDAR
