BEGIN:VCALENDAR
METHOD:PUBLISH
X-WR-TIMEZONE:Europe/Berlin
PRODID:https://www.siwitermine.de
CALSCALE:GREGORIAN
VERSION:2.0
BEGIN:VTIMEZONE
TZID:Europe/Berlin
BEGIN:DAYLIGHT
TZOFFSETFROM:+0100
TZOFFSETTO:+0200
DTSTART:19810329T020000
RRULE:FREQ=YEARLY;BYMONTH=3;BYDAY=-1SU
TZNAME:CEST
END:DAYLIGHT
BEGIN:STANDARD
TZOFFSETFROM:+0200
TZOFFSETTO:+0100
DTSTART:19961027T030000
RRULE:FREQ=YEARLY;BYMONTH=10;BYDAY=-1SU
TZNAME:CET
END:STANDARD
END:VTIMEZONE
BEGIN:VEVENT
LOCATION:Dunkelcafé Siegen | Kölner Straße 11 | Siegen
SUMMARY:Mobil ohne Führerschein | Eine Veranstaltung der RG Siegen der PRO RETINA
DESCRIPTION:Ob zum Einkaufen oder zu Besuchen bei Verwandten: Überall sind Sie selbst mit Ihrem Auto hingefahren. Nun hat ihr Augenarzt oder Ihre Augenärztin bei Ihnen eine Sehbehinderung festgestellt. Jetzt fragen Sie sich: Darf man noch Auto fahren, wenn man schlecht sieht? Wie kann ich mobil bleiben, wenn ich selbst kein Auto mehr fahren kann? Von Mitgliedern des Leitungsteams in der Regionalgruppe Siegen der PRO RETINA, die selbst eine Sehbeeinträchtigung haben, erfahren Sie: wie viel man aus rechtlicher Sicht noch sehen muss, um ein Auto fahren zu dürfen und welche Verkehrsmittel sehbehinderte und blinde Menschen nutzen, um an ihr Ziel zu gelangen. Interessierte melden sich bitte bis zum 12. März 2026 bei Herrn Andreas Stephan an. Ihn erreichen Sie telefonisch oder der E-Mail-Adresse rg-siegen@pro-retina.de. Die PRO RETINA ist eine Selbsthilfeorganisation von Menschen mit einer degenerativen Netzhauterkrankung. Mehr über die Ziele und Angebote der Regionalgruppe Siegen erfahren Sie unter https://www.pro-retina.de/regionalgruppen/nordrhein-westfalen/siegen | Info: 02738 6929556 | https://www.siwitermine.de/62505 
UID:siwitermine/62505/2026-03-01-2W  
CLASS:PUBLIC
DTSTART;TZID=Europe/Berlin:20260314T100000
DTEND;TZID=Europe/Berlin:20260314T100000
DTSTAMP:20260305T143032
END:VEVENT
END:VCALENDAR
