BEGIN:VCALENDAR
METHOD:PUBLISH
X-WR-TIMEZONE:Europe/Berlin
PRODID:https://www.siwitermine.de
CALSCALE:GREGORIAN
VERSION:2.0
BEGIN:VTIMEZONE
TZID:Europe/Berlin
BEGIN:DAYLIGHT
TZOFFSETFROM:+0100
TZOFFSETTO:+0200
DTSTART:19810329T020000
RRULE:FREQ=YEARLY;BYMONTH=3;BYDAY=-1SU
TZNAME:CEST
END:DAYLIGHT
BEGIN:STANDARD
TZOFFSETFROM:+0200
TZOFFSETTO:+0100
DTSTART:19961027T030000
RRULE:FREQ=YEARLY;BYMONTH=10;BYDAY=-1SU
TZNAME:CET
END:STANDARD
END:VTIMEZONE
BEGIN:VEVENT
LOCATION:Viktoria Filmtheater Hilchenbach-Dahlbruch | Bernhard-Weiss-Platz 6
SUMMARY:Deutsche Gesellschaft für Humanes Sterben: | Gott
DESCRIPTION:(D 2020, 92 Minuten, ab 12 Jahren): Der 78-jährige Architekt Richard Gärtner möchte seinem Leben ein Ende setzen. Dies soll ganz legal mit der Hilfe seiner Hausärztin Dr. Brandt geschehen. Diese lehnt es jedoch ab, ihrem zwar betagten, aber gesunden Patienten ein todbringendes Präparat zu besorgen. Richard Gärtners Fall wird exemplarisch vor dem Deutschen Ethikrat diskutiert. Basierend auf dem Bühnenstück Gott von Ferdinand von Schirach entstand ein spannendes Drama mit Matthias Habich, Barbara Auer, Lars Eidinger, Christiane Paul, Götz Schubert, Ulrich Matthes und Anna Maria Mühe in den Hauptrollen. Eine Veranstaltung der Deutschen Gesellschaft für Humanes Sterben. | Info: 02733 61467 | https://www.siwitermine.de/62523 
UID:siwitermine/62523/2026-02-28-2W  
CLASS:PUBLIC
DTSTART;TZID=Europe/Berlin:20260312T170000
DTEND;TZID=Europe/Berlin:20260312T170000
DTSTAMP:20260311T103704
END:VEVENT
END:VCALENDAR
