BEGIN:VCALENDAR
METHOD:PUBLISH
X-WR-TIMEZONE:Europe/Berlin
PRODID:https://www.siwitermine.de
CALSCALE:GREGORIAN
VERSION:2.0
BEGIN:VTIMEZONE
TZID:Europe/Berlin
BEGIN:DAYLIGHT
TZOFFSETFROM:+0100
TZOFFSETTO:+0200
DTSTART:19810329T020000
RRULE:FREQ=YEARLY;BYMONTH=3;BYDAY=-1SU
TZNAME:CEST
END:DAYLIGHT
BEGIN:STANDARD
TZOFFSETFROM:+0200
TZOFFSETTO:+0100
DTSTART:19961027T030000
RRULE:FREQ=YEARLY;BYMONTH=10;BYDAY=-1SU
TZNAME:CET
END:STANDARD
END:VTIMEZONE
BEGIN:VEVENT
LOCATION:Talkirche | An der Talkirche 2 | 57078 Siegen
SUMMARY:Entstellter Himmel | Lesung und Musik
DESCRIPTION:Woche der Prävention sexualisierter Gewalt des Ev. Kirchenkreises Siegen-Wittgenstein Lesung im Gemeindezentrum der Talkirche in Siegen. Nancy Janz und Matthias Schwarz lesen aus dem Buch "Entstellter Himmel", musikalisch begleitet von Herrn Marco Hoffmann. Der Eintritt zu allen Veranstaltungen ist frei. Bei allen Veranstaltungen der Präventionswoche ist eine Ansprechperson der EFL anwesend.  | Info: 0271 25028 33 | https://www.siwitermine.de/62511 
UID:siwitermine/62511/2026-02-28-2W  
CLASS:PUBLIC
DTSTART;TZID=Europe/Berlin:20260313T183000
DTEND;TZID=Europe/Berlin:20260313T183000
DTSTAMP:20260309T090607
END:VEVENT
END:VCALENDAR
