BEGIN:VCALENDAR
METHOD:PUBLISH
X-WR-TIMEZONE:Europe/Berlin
PRODID:https://www.siwitermine.de
CALSCALE:GREGORIAN
VERSION:2.0
BEGIN:VTIMEZONE
TZID:Europe/Berlin
BEGIN:DAYLIGHT
TZOFFSETFROM:+0100
TZOFFSETTO:+0200
DTSTART:19810329T020000
RRULE:FREQ=YEARLY;BYMONTH=3;BYDAY=-1SU
TZNAME:CEST
END:DAYLIGHT
BEGIN:STANDARD
TZOFFSETFROM:+0200
TZOFFSETTO:+0100
DTSTART:19961027T030000
RRULE:FREQ=YEARLY;BYMONTH=10;BYDAY=-1SU
TZNAME:CET
END:STANDARD
END:VTIMEZONE
BEGIN:VEVENT
LOCATION:Kulturhaus Lÿz | St.-Johann-Str. 18 | Siegen
SUMMARY:Neuer Termin: Mitch Ryder | Songs from the Road-Tour 2026
DESCRIPTION:Auf seiner aktuellen Tour macht Rock-Ikone Mitch Ryder neben Österreich, Schweiz und Belgien auch im Lÿz Station. Seit über 50 Jahren steht der Sänger aus Detroit für energiegeladenen Rock und tief empfundenen Rhythm & Blues. Mit seiner Band The Detroit Wheels schrieb Ryder bereits 1965 mit dem Hit Jenny Take A Ride! Musikgeschichte. Über 30 Alben später gilt er als einer der prägendsten Rockmusiker seiner Zeit - von Keith Richards einst als einer der aufregendsten Sänger überhaupt bezeichnet. Seine Stimme, rau und voller Leidenschaft, brachte ihm Kultstatus - und eine besondere Verbindung zu Europa. In Europa darf ich Künstler sein. Deshalb liebe ich Europa, so der Musiker. Nach dem hochgelobten Live-Album The Roof Is On Fire (2024) veröffentlichte er im Februar 2025 sein neues Studioalbum With Love, produziert von Don Was (Bob Dylan, The Rolling Stones, Iggy Pop). 2026 bringt er seine Klassiker ebenso wie neues Material wieder live auf die Bühne - authentisch, kompromisslos und voller Leidenschaft. | Info: 0271/333-2448 | https://www.siwitermine.de/62473 
UID:siwitermine/62473/2026-02-28-2W  
CLASS:PUBLIC
DTSTART;TZID=Europe/Berlin:20260308T200000
DTEND;TZID=Europe/Berlin:20260308T200000
DTSTAMP:20260225T145902
END:VEVENT
END:VCALENDAR
