BEGIN:VCALENDAR
METHOD:PUBLISH
X-WR-TIMEZONE:Europe/Berlin
PRODID:https://www.siwitermine.de
CALSCALE:GREGORIAN
VERSION:2.0
BEGIN:VTIMEZONE
TZID:Europe/Berlin
BEGIN:DAYLIGHT
TZOFFSETFROM:+0100
TZOFFSETTO:+0200
DTSTART:19810329T020000
RRULE:FREQ=YEARLY;BYMONTH=3;BYDAY=-1SU
TZNAME:CEST
END:DAYLIGHT
BEGIN:STANDARD
TZOFFSETFROM:+0200
TZOFFSETTO:+0100
DTSTART:19961027T030000
RRULE:FREQ=YEARLY;BYMONTH=10;BYDAY=-1SU
TZNAME:CET
END:STANDARD
END:VTIMEZONE
BEGIN:VEVENT
LOCATION:Stadtbücherei Haiger | Hauptstraße 44 | Haiger
SUMMARY:Spitzbergen und Insel Jan Mayen - Island und Insel Grimsey | Expedition in die arktische Inselwelt; Begleitveranstaltung zur Fotoausstellung im Rathaus Haiger
DESCRIPTION:Von Spitzbergen und Jan Mayen, Island und Grimsey hat Gerhard Knappstein die schönsten Landschaftsfotos zusammengestellt. Spitzbergen ist eine Inselgruppe im ewigen Eis - einige hundert Kilometer von der norwegischen Küste entfernt in Richtung Nordnordwest. Spitzbergen, praktisch unbesiedelt, wartet mit beeindruckenden Fjorden, majestätischen Bergen, kalbenden Gletschern auf. Jan Mayen ist eine unbewohnte Vulkaninsel in der Mitte der norwegischen See mit schneebedeckten Bergen und üppigen Moosen und Flechten auf schwarzem Felsgestein. Die Insel Island gilt als ein "Land aus Feuer und Eis". Ganz problemlos kann man den zischenden Geysiren, erstarrten Lavaströmen, Lavafeldern und Vulkanen, tosenden Wasserfällen, heißen Thermalquellen, endlosen Wiesen und saftigen Weiden, oder den Gletscherflächen nahe kommen. Grimsey ist eine kleine Insel, liegt auf dem Polarkreis etwa 40 km nördlich der isländischen Küste. Sie beeindruckt durch die enormen Bestände an Seevögeln. Die Inselmetropole Reykjavik begeistert mit einer Mischung aus städtischem Lebensgefühl und ländlicher Anziehungskraft.  | Info: 0178 9884076 | https://www.siwitermine.de/61968 
UID:siwitermine/61968/2026-02-03-2W  
CLASS:PUBLIC
DTSTART;TZID=Europe/Berlin:20260205T190000
DTEND;TZID=Europe/Berlin:20260205T190000
DTSTAMP:20251219T153440
END:VEVENT
END:VCALENDAR
