BEGIN:VCALENDAR
METHOD:PUBLISH
X-WR-TIMEZONE:Europe/Berlin
PRODID:https://www.siwitermine.de
CALSCALE:GREGORIAN
VERSION:2.0
BEGIN:VTIMEZONE
TZID:Europe/Berlin
BEGIN:DAYLIGHT
TZOFFSETFROM:+0100
TZOFFSETTO:+0200
DTSTART:19810329T020000
RRULE:FREQ=YEARLY;BYMONTH=3;BYDAY=-1SU
TZNAME:CEST
END:DAYLIGHT
BEGIN:STANDARD
TZOFFSETFROM:+0200
TZOFFSETTO:+0100
DTSTART:19961027T030000
RRULE:FREQ=YEARLY;BYMONTH=10;BYDAY=-1SU
TZNAME:CET
END:STANDARD
END:VTIMEZONE
BEGIN:VEVENT
LOCATION:kleiner Sitzungssaal im Rathaus Netphen | Amtsstr. 2+6 | Netphen
SUMMARY:Multivisionsvortrag Schottland von Gerhard Braunöhler | Reisereportage
DESCRIPTION:Drei Wochen war der Referent in Schottland unterwegs, auf eigene Faust und mit dem eigenen Auto. Die Rundreise beginnt in Glasgow, das sich sehr vielfältig präsentiert, auch in der Umgebung. Vorbei am Eilean Donan Castle geht es dann auf die Insel Skye mit einer urtümlichen Landschaft. Weiter führt der Weg entlang der Küste über Aberdeen nach Edinburgh. Hier findet im August das Fringe-Festival statt, bei dem Straßenkünstler in der Altstadt ihr Können zeigen und das Royal Military Tattoo, das größte Musikfestival Schottlands. Nicht verpassen sollte man einen Besuch der Highland Games. Eine Reisereportage von Gerhard Braunöhler mit brillanten Fotos und vielen Informationen zu Land und Leuten, präsentiert im kleinen Sitzungssaal des Rathauses Netphen.  | Info: 02738 603 111 / -209 | https://www.siwitermine.de/62090 
UID:siwitermine/62090/2026-02-01-2W  
CLASS:PUBLIC
DTSTART;TZID=Europe/Berlin:20260201T170000
DTEND;TZID=Europe/Berlin:20260201T170000
DTSTAMP:20260112T144724
END:VEVENT
END:VCALENDAR
