BEGIN:VCALENDAR
METHOD:PUBLISH
X-WR-TIMEZONE:Europe/Berlin
PRODID:https://www.siwitermine.de
CALSCALE:GREGORIAN
VERSION:2.0
BEGIN:VTIMEZONE
TZID:Europe/Berlin
BEGIN:DAYLIGHT
TZOFFSETFROM:+0100
TZOFFSETTO:+0200
DTSTART:19810329T020000
RRULE:FREQ=YEARLY;BYMONTH=3;BYDAY=-1SU
TZNAME:CEST
END:DAYLIGHT
BEGIN:STANDARD
TZOFFSETFROM:+0200
TZOFFSETTO:+0100
DTSTART:19961027T030000
RRULE:FREQ=YEARLY;BYMONTH=10;BYDAY=-1SU
TZNAME:CET
END:STANDARD
END:VTIMEZONE
BEGIN:VEVENT
LOCATION:Großer Saal | Siegerlandhalle | Koblenzer Str. 151 | Siegen
SUMMARY:The Music of Queen Live | 
DESCRIPTION:Viel zu früh ist der Ausnahmekünstler im Alter von 45 Jahren verstorben. Mit seiner Band QUEEN feierte er Mega-Erfolge. Ihre Hits sind unsterblich und begeistern nach wie vor Jung und Alt mit dem Repertoire aus Rock, Pop, Klassik, Balladen, Disco oder RnB in ihren Songs. Durch den Film "Bohemian Rhapsody" (2018), durch zahlreiche Dokumentationen und Konzerte der Ausnahme-Band bleibt QUEEN bis heute unvergessen bei ihrer riesigen Fangemeinde. Jetzt bringen wir The Music of QUEEN Live auf die Bühne - die derzeit wohl beste und authentischste QUEEN Tribute-Show! Der charismatische Frontmann Valentin L. Findling und seine erstklassige Liveband präsentieren die Welthits von QUEEN. Er verkörpert Freddie Mercury so atemberaubend und energiegeladen wie kein Zweiter. Er hat die Stimme, den Look und die Moves. Seine Live-Band spielte mit Größen wie Earl Harvin (u.a. Seal, Sam Smith, Céline Dion), mit Peter Schilling, Sandy (No Angels), als Support von Eric Clapton, Paul Young, u.v.a. Die Songs bieten einen Rundumschlag durch das gesamte QUEEN-Repertoire mit allen Hit-Klassikern der britischen Kult-Band. Erleben Sie jetzt mit The Music of QUEEN Live die Wiederauferstehung eines Idols und einer der größten Bands der Rock- und Pop-Geschichte! DIE WELT schreibt: "Was für eine Stimme! Was für ein Abend!" | Info: 04651 83 21 898 | https://www.siwitermine.de/62136 
UID:siwitermine/62136/2026-01-23-2W  
CLASS:PUBLIC
DTSTART;TZID=Europe/Berlin:20260201T200000
DTEND;TZID=Europe/Berlin:20260201T200000
DTSTAMP:20260115T090052
END:VEVENT
END:VCALENDAR
