BEGIN:VCALENDAR
METHOD:PUBLISH
X-WR-TIMEZONE:Europe/Berlin
PRODID:https://www.siwitermine.de
CALSCALE:GREGORIAN
VERSION:2.0
BEGIN:VTIMEZONE
TZID:Europe/Berlin
BEGIN:DAYLIGHT
TZOFFSETFROM:+0100
TZOFFSETTO:+0200
DTSTART:19810329T020000
RRULE:FREQ=YEARLY;BYMONTH=3;BYDAY=-1SU
TZNAME:CEST
END:DAYLIGHT
BEGIN:STANDARD
TZOFFSETFROM:+0200
TZOFFSETTO:+0100
DTSTART:19961027T030000
RRULE:FREQ=YEARLY;BYMONTH=10;BYDAY=-1SU
TZNAME:CET
END:STANDARD
END:VTIMEZONE
BEGIN:VEVENT
LOCATION:Gebrüder-Busch-Theater | Hilchenbach-Dahlbruch | Bernhard-Weiss-Platz
SUMMARY:Cordula Stratmann und Michel Abdollahi Wo war ich stehen geblieben? Grübeleien und Geistesblitze | 
DESCRIPTION:Wann bitte soll man all die Fragen, die das Leben aufwirft, zu Ende denken? Kaum glaubt man, einen Schlussgedanken gefasst zu haben, da tut sich schon die nächste Frage auf. Cordula Stratmann versucht es trotzdem und Michel Abdollahi hilft ihr dabei. In Cordula Stratmanns neuem Buch Wo war ich stehen geblieben? Grübeleien und Geistesblitze geht es um die kleinen und großen Dinge unseres Daseins, um Ameisen und Elternliebe, um Diversität und Wokeness, um Sport und Brillen: Scharfsinnig bohrt sie dort nach, wo es weh tut, und lässt uns schallend lachen, wo nur Frohsinn weiterhilft. Cordula Stratmann präsentiert ein selbst gestricktes ABC zum Schmunzeln und Nachdenken: offen zeitkritisch, zeitlos, tiefgründig, unverwechselbar wortgewaltig und voller Humor. Eintritt: VVK Erwachsene 24 I 28 I 32  | Info: 02733/53350 | https://www.siwitermine.de/61693 
UID:siwitermine/61693/2026-01-23-2W  
CLASS:PUBLIC
DTSTART;TZID=Europe/Berlin:20260130T200000
DTEND;TZID=Europe/Berlin:20260130T200000
DTSTAMP:20251124T084806
END:VEVENT
END:VCALENDAR
