BEGIN:VCALENDAR
METHOD:PUBLISH
X-WR-TIMEZONE:Europe/Berlin
PRODID:https://www.siwitermine.de
CALSCALE:GREGORIAN
VERSION:2.0
BEGIN:VTIMEZONE
TZID:Europe/Berlin
BEGIN:DAYLIGHT
TZOFFSETFROM:+0100
TZOFFSETTO:+0200
DTSTART:19810329T020000
RRULE:FREQ=YEARLY;BYMONTH=3;BYDAY=-1SU
TZNAME:CEST
END:DAYLIGHT
BEGIN:STANDARD
TZOFFSETFROM:+0200
TZOFFSETTO:+0100
DTSTART:19961027T030000
RRULE:FREQ=YEARLY;BYMONTH=10;BYDAY=-1SU
TZNAME:CET
END:STANDARD
END:VTIMEZONE
BEGIN:VEVENT
LOCATION:Campus Unteres Schloss / Gebäudeteil C / Raum US-C 109 | Unteres Schloß 3 |Siegen
SUMMARY:Wonder Woman: Zur problematischen Popularität einer feministischen Ikone. | Ein Vortrag von Daniel Stein im Rahmen der Vortragsreihe I need a hero!
DESCRIPTION:Der Vortrag von Daniel Stein ist Teil der Reihe I need a hero! des Zentrum Gender Studies Siegen und der Uni Siegen. Diese und alle anderen Veranstaltungen der Reihe sind kostenfrei besuchbar. | Info: 0271 740-4553 oder 3870 | https://www.siwitermine.de/61671 
UID:siwitermine/61671/2026-01-20-2W  
CLASS:PUBLIC
DTSTART;TZID=Europe/Berlin:20260128T180000
DTEND;TZID=Europe/Berlin:20260128T180000
DTSTAMP:20251121T125554
END:VEVENT
END:VCALENDAR
