BEGIN:VCALENDAR
METHOD:PUBLISH
X-WR-TIMEZONE:Europe/Berlin
PRODID:https://www.siwitermine.de
CALSCALE:GREGORIAN
VERSION:2.0
BEGIN:VTIMEZONE
TZID:Europe/Berlin
BEGIN:DAYLIGHT
TZOFFSETFROM:+0100
TZOFFSETTO:+0200
DTSTART:19810329T020000
RRULE:FREQ=YEARLY;BYMONTH=3;BYDAY=-1SU
TZNAME:CEST
END:DAYLIGHT
BEGIN:STANDARD
TZOFFSETFROM:+0200
TZOFFSETTO:+0100
DTSTART:19961027T030000
RRULE:FREQ=YEARLY;BYMONTH=10;BYDAY=-1SU
TZNAME:CET
END:STANDARD
END:VTIMEZONE
BEGIN:VEVENT
LOCATION:Kulturhaus Lÿz | St.-Johann-Str. 18 | Siegen
SUMMARY:Christoph Sieber | Weitermachen!
DESCRIPTION:Christoph Sieber ist endlich wieder auf Tour. Und das ist gut so, schließlich ist die Welt voller Katastrophenmeldungen und da ist es richtig und wichtig, dass einer gegen den Irrsinn anspielt. In einer Welt der Untergangsszenarien stellt Sieber klar: Die Hoffnung stirbt zuletzt und am Ende siegt der Humor, denn aufgeben ist einfach keine Option. Genau deshalb geht es in Weitermachen um uns. Um gesellschaftliche Irrungen und Wirrungen, um den Zusammenhalt und das, was uns trennt. Gewohnt bissig garniert Christoph Sieber dabei aktuelles politisches Kabarett mit den großen Themen unserer Zeit: Fußball, Politik, Gesellschaft und die Frage, warum Nacktmulle so selten shoppen gehen. Das alles verziert mit Gesang, Tanz und einem ganzen Reigen von Figuren, die mitten aus dem Leben gegriffen sind - Bäcker Häberle, Charity-Dieter und endlich kommt auch Siebers langjährig verschollener Bruder zu Wort.Nicht nur wer Sieber aus dem Fernsehen schätzt, sollte ihn unbedingt live erleben. Denn nichts macht politisches Kabarett mehr aus, als gemeinsam zu lachen, zu klagen, zu weinen und nachher im Foyer zusammen ein Bier zu trinken im Wissen: Es geht weiter. Und wer, wenn nicht Sieber, könnte dem allgemeinen Untergangsgeraune seine Vision entgegensetzen: Den Weltaufgang! | Info: 0271/333-2448 | https://www.siwitermine.de/61639 
UID:siwitermine/61639/2026-01-20-2W  
CLASS:PUBLIC
DTSTART;TZID=Europe/Berlin:20260131T200000
DTEND;TZID=Europe/Berlin:20260131T200000
DTSTAMP:20251120T130050
END:VEVENT
END:VCALENDAR
