BEGIN:VCALENDAR
METHOD:PUBLISH
X-WR-TIMEZONE:Europe/Berlin
PRODID:https://www.siwitermine.de
CALSCALE:GREGORIAN
VERSION:2.0
BEGIN:VTIMEZONE
TZID:Europe/Berlin
BEGIN:DAYLIGHT
TZOFFSETFROM:+0100
TZOFFSETTO:+0200
DTSTART:19810329T020000
RRULE:FREQ=YEARLY;BYMONTH=3;BYDAY=-1SU
TZNAME:CEST
END:DAYLIGHT
BEGIN:STANDARD
TZOFFSETFROM:+0200
TZOFFSETTO:+0100
DTSTART:19961027T030000
RRULE:FREQ=YEARLY;BYMONTH=10;BYDAY=-1SU
TZNAME:CET
END:STANDARD
END:VTIMEZONE
BEGIN:VEVENT
LOCATION:Wald Klang | Höhwäldchen 2 | 57234 Wilnsdorf
SUMMARY:Plus Vier | Vier DJs, eine große Techno-Party in Wilnsdorf
DESCRIPTION:Als Plus Vier machen sie zu ersten Mal gemeinsame Sache. Wer´s elektronisch mag, ist hier richtig. Mike Shepherd, Jospeh Navarro (Pepe), Framoc und Arne Wirth legen am 31. Januar gemeinsam im Waldklang der Location im Freizeitcenter am Höhwäldchen auf - und das oldschool: mit Schallplatten. Tickets sind für 15 Euro über die Seite gustopuro.ticket erhältlich. | Info: - | https://www.siwitermine.de/62122 
UID:siwitermine/62122/2026-01-19-2W  
CLASS:PUBLIC
DTSTART;TZID=Europe/Berlin:20260131T210000
DTEND;TZID=Europe/Berlin:20260131T210000
DTSTAMP:20260114T094843
END:VEVENT
END:VCALENDAR
