BEGIN:VCALENDAR
METHOD:PUBLISH
X-WR-TIMEZONE:Europe/Berlin
PRODID:https://www.siwitermine.de
CALSCALE:GREGORIAN
VERSION:2.0
BEGIN:VTIMEZONE
TZID:Europe/Berlin
BEGIN:DAYLIGHT
TZOFFSETFROM:+0100
TZOFFSETTO:+0200
DTSTART:19810329T020000
RRULE:FREQ=YEARLY;BYMONTH=3;BYDAY=-1SU
TZNAME:CEST
END:DAYLIGHT
BEGIN:STANDARD
TZOFFSETFROM:+0200
TZOFFSETTO:+0100
DTSTART:19961027T030000
RRULE:FREQ=YEARLY;BYMONTH=10;BYDAY=-1SU
TZNAME:CET
END:STANDARD
END:VTIMEZONE
BEGIN:VEVENT
LOCATION:Viktoria Filmtheater Hilchenbach-Dahlbruch | Bernhard-Weiss-Platz 6
SUMMARY:Die Rosenschlacht | 
DESCRIPTION:(USA 2025, 106 Minuten, ab 12) Die Köchin Ivy (Olivia Colman) und der Architekt Theo (Benedict Cumberbatch) führen ein scheinbar perfektes Leben: erfolgreiche Karrieren, eine liebevolle Ehe, großartige Kinder. Doch hinter der Fassade braut sich ein Sturm zusammen. Während Theos Karriere einen empfindlichen Knick erleidet, avanciert Ivys zur gefeierten Star-Köchin. Während Theo mit seiner Rolle als Hausmann hadert, genießt Ivy das Promi-Leben. Es entbrennt ein hitziger Konflikt zwischen den beiden, geprägt von wachsendem Konkurrenzdenken, verdrängten und deshalb ungelösten Spannungen sowie unterschiedlichen Wertevorstellungen. Und schon bald werfen sich die beiden mehr als nur Worte an den Kopf. "Eine witzige und unterhaltsame Streit- und Scheidungskomödie, die sich vor allem auf das britische Temperament der Hauptfiguren und perfekt geschriebene Dialoge verlässt." (Filmdienst) | Info: 02733 61467 | https://www.siwitermine.de/62184 
UID:siwitermine/62184/2026-01-17-2W  
CLASS:PUBLIC
DTSTART;TZID=Europe/Berlin:20260126T200000
DTEND;TZID=Europe/Berlin:20260126T200000
DTSTAMP:20260126T104953
END:VEVENT
END:VCALENDAR
