BEGIN:VCALENDAR
METHOD:PUBLISH
X-WR-TIMEZONE:Europe/Berlin
PRODID:https://www.siwitermine.de
CALSCALE:GREGORIAN
VERSION:2.0
BEGIN:VTIMEZONE
TZID:Europe/Berlin
BEGIN:DAYLIGHT
TZOFFSETFROM:+0100
TZOFFSETTO:+0200
DTSTART:19810329T020000
RRULE:FREQ=YEARLY;BYMONTH=3;BYDAY=-1SU
TZNAME:CEST
END:DAYLIGHT
BEGIN:STANDARD
TZOFFSETFROM:+0200
TZOFFSETTO:+0100
DTSTART:19961027T030000
RRULE:FREQ=YEARLY;BYMONTH=10;BYDAY=-1SU
TZNAME:CET
END:STANDARD
END:VTIMEZONE
BEGIN:VEVENT
LOCATION:Kulturhaus Lÿz | St.-Johann-Str. 18 | Siegen
SUMMARY:Filmklub Kurbelkiste | Honey Dont
DESCRIPTION:Actionkomödie, USA /GB 2025, 89 Minuten, FSK 16, Regie: Ethan Coen Die Privatdetektivin Honey O`Donahue aus einer kalifornischen Kleinstadt wird mit einem scheinbar einfachen Fall beauftragt: Der mysteriöse Tod einer jungen Frau scheint ein Unfall zu sein. Doch als Honey tiefer gräbt, stößt sie auf Hinweise, die auf eine dubiose Gemeinde um den charismatischen Prediger Reverend Drew Devlin führen - dessen Kirche wohl als Fassade für kriminelle Machenschaften dient. Parallel zu ihren Ermittlungen navigiert Honey durch ihre persönlichen Beziehungen - insbesondere mit der Polizistin MG Falcone, mit der sie eine romantische Beziehung eingeht. Am Ende entwickelt sich der Fall zu einem wilden Mix aus Film noir, bissigem Humor und überzeichneten Genre-Elementen: Es geht weniger um klassische Detektivarbeit als um die Begegnung mit Macht, Verführung und moralischer Ambiguität.  | Info: 0271/2390703 | https://www.siwitermine.de/61637 
UID:siwitermine/61637/2026-01-16-2W  
CLASS:PUBLIC
DTSTART;TZID=Europe/Berlin:20260127T190000
DTEND;TZID=Europe/Berlin:20260127T190000
DTSTAMP:20251120T125827
END:VEVENT
END:VCALENDAR
