BEGIN:VCALENDAR
METHOD:PUBLISH
X-WR-TIMEZONE:Europe/Berlin
PRODID:https://www.siwitermine.de
CALSCALE:GREGORIAN
VERSION:2.0
BEGIN:VTIMEZONE
TZID:Europe/Berlin
BEGIN:DAYLIGHT
TZOFFSETFROM:+0100
TZOFFSETTO:+0200
DTSTART:19810329T020000
RRULE:FREQ=YEARLY;BYMONTH=3;BYDAY=-1SU
TZNAME:CEST
END:DAYLIGHT
BEGIN:STANDARD
TZOFFSETFROM:+0200
TZOFFSETTO:+0100
DTSTART:19961027T030000
RRULE:FREQ=YEARLY;BYMONTH=10;BYDAY=-1SU
TZNAME:CET
END:STANDARD
END:VTIMEZONE
BEGIN:VEVENT
LOCATION:Ev. Kirche Bad Laasphe
SUMMARY:Buchpräsentation von Igal Avidan: "... und es wurde Licht! Jüdisch-arabisches Zusammenleben in Israel" | 
DESCRIPTION:Der in Berlin lebende israelische Autor und Journalist Igal Avidan wird in Bad Laasphe sein 2023 erschienenes Buch "... und es wurde Licht! Jüdisch-arabisches Zusammenleben in Israel" präsentieren und über die Situation in Israel nach dem 07. Oktober 2023 diskutieren. Gute Nachrichten sind selten eine Meldung wert - auch nicht, wenn sie aus Israel kommen. Dabei gibt es sie, und sie sind nachzulesen in Igal Avidans Buch. Igal Avidan berichtet, entgegen der üblichen Fernsehbilder, aus einer bewegten Gesellschaft, in der Jüdinnen und Juden und Araberinnen und Araber längst ein Zusammenleben gefunden haben, das den Vorstellungen von ewigem Hass (von Politiker:innen auf beiden Seiten gern geschürt) nicht entspricht. Eine friedliche und zugleich brüchige Co-Existenz auf dem Vulkan - davon erfährt man in diesen Reportagen aus dem Alltagsleben in Israel. Igal Avidan, 1962 in Tel Aviv geboren, hat in Israel Englische Literatur und Informatik und dann in Berlin Politikwissenschaft studiert. Seit 1990 arbeitet der Nahostexperte als freier Berichterstatter aus Berlin für israelische und deutsche Zeitungen und Hörfunksender. Die Veranstaltung findet als Kooperation des Bad Laaspher Freundeskreis für Christlich-Jüdische Zusammenarbeit mit der Gesellschaft für Christlich-Jüdische Zusammenarbeit Siegerland und der Erwachsenenbildung im Ev. Kirchenkreis Siegen-Wittgenstein statt. Die Uhrzeit wird noch bekanntgegeben. | Info: 0271 20100 | https://www.siwitermine.de/61378 
UID:siwitermine/61378/2026-01-12-1W  
CLASS:PUBLIC
DTSTART;TZID=Europe/Berlin:20260118T000000
DTEND;TZID=Europe/Berlin:20260118T000000
DTSTAMP:20251027T092300
END:VEVENT
END:VCALENDAR
