BEGIN:VCALENDAR
METHOD:PUBLISH
X-WR-TIMEZONE:Europe/Berlin
PRODID:https://www.siwitermine.de
CALSCALE:GREGORIAN
VERSION:2.0
BEGIN:VTIMEZONE
TZID:Europe/Berlin
BEGIN:DAYLIGHT
TZOFFSETFROM:+0100
TZOFFSETTO:+0200
DTSTART:19810329T020000
RRULE:FREQ=YEARLY;BYMONTH=3;BYDAY=-1SU
TZNAME:CEST
END:DAYLIGHT
BEGIN:STANDARD
TZOFFSETFROM:+0200
TZOFFSETTO:+0100
DTSTART:19961027T030000
RRULE:FREQ=YEARLY;BYMONTH=10;BYDAY=-1SU
TZNAME:CET
END:STANDARD
END:VTIMEZONE
BEGIN:VEVENT
LOCATION:Kath. Kirche St. Joseph  | Weidenauer Str. 23 | Siegen Weidenau
SUMMARY:Konzert mit Akkordeon und Flügel | 
DESCRIPTION:Unter dem Motto "Zwischen Himmel und Erde" erklingt am 18. Januar um 17 Uhr in St. Joseph, Weidenauer Straße 23 geistliche und weltliche Musik in einer ungewöhnlichen Besetzung aus zwei Tasteninstrumenten. Maik Hester (Akkordeon, Flügel) und Daphne Tolzmann (Flügel) spielen Werke von Tomaso Albinoni, Johann Sebastian Bach, Astor Piazzolla, Erik Satie, John Stanley, u.a. Das Jahr 2026 ist offiziell das Jahr des Akkordeons, da die deutschen Landesmusikräte dieses vielseitige Instrument zum "Instrument des Jahres 2026" gekürt haben, um seine klangliche Bandbreite jenseits von Volksmusik in Klassik, Jazz und Pop zu beleuchten und neue Interessenten zu gewinnen. Der Eintritt beträgt zum Konzert betragt 15 , ermäßigt 10 .  | Info: - | https://www.siwitermine.de/62042 
UID:siwitermine/62042/2026-01-10-2W  
CLASS:PUBLIC
DTSTART;TZID=Europe/Berlin:20260118T170000
DTEND;TZID=Europe/Berlin:20260118T170000
DTSTAMP:20260106T145640
END:VEVENT
END:VCALENDAR
