BEGIN:VCALENDAR
METHOD:PUBLISH
X-WR-TIMEZONE:Europe/Berlin
PRODID:https://www.siwitermine.de
CALSCALE:GREGORIAN
VERSION:2.0
BEGIN:VTIMEZONE
TZID:Europe/Berlin
BEGIN:DAYLIGHT
TZOFFSETFROM:+0100
TZOFFSETTO:+0200
DTSTART:19810329T020000
RRULE:FREQ=YEARLY;BYMONTH=3;BYDAY=-1SU
TZNAME:CEST
END:DAYLIGHT
BEGIN:STANDARD
TZOFFSETFROM:+0200
TZOFFSETTO:+0100
DTSTART:19961027T030000
RRULE:FREQ=YEARLY;BYMONTH=10;BYDAY=-1SU
TZNAME:CET
END:STANDARD
END:VTIMEZONE
BEGIN:VEVENT
LOCATION:Kath. Kirche St. Joseph  | Weidenauer Str. 23 | Siegen Weidenau
SUMMARY:Mitsingprojekt Der Messias (Georg Friedrich Händel) | 
DESCRIPTION:Der Kammerchor Weidenau lädt ab Dienstag, dem 13. Januar zum Mitsingen ein für das Projekt Der Messias (2. und 3.Teil) von Georg Friedrich Händel. Dieses weltberühmte Oratorium zählt zu den größten Meisterwerken der Musikgeschichte. Die Aufführung ist am Sonntag, 29. März (Palmsonntag) um 17 Uhr in St. Joseph zusammen mit dem Orchester "Camerata Instrumentale Siegen", Solistinnen und Solisten. Im 2. und 3. Teil des Oratoriums geht es um die Passion, Auferstehung und Wiederkunft des Messias. Geprobt wird immer dienstags von 19:30 Uhr bis 21:15 Uhr im Pfarrheim St. Joseph, Weidenauer Straße 23 unter der Leitung von Dekanatskirchenmusikerin Helga Maria Lange. Das Projekt lädt Sängerinnen und Sänger aller Stimmlagen mit Chorerfahrung ein, Teil eines außergewöhnlichen musikalischen Ereignisses zu werden und gemeinsam in intensiven und zugleich inspirierenden Proben eines der eindrucksvollsten Werke der Barockzeit zu erarbeiten. Die Freude an der Musik und am gemeinsamen Singen steht im Mittelpunkt. Nähere Infos und Anmeldung unter 0160 4113355 oder www.kammerchor-weidenau.de.  | Info: 0160/4113355 | https://www.siwitermine.de/62031 
UID:siwitermine/62031/2026-01-10-2W  
CLASS:PUBLIC
DTSTART;TZID=Europe/Berlin:20260113T170000
DTEND;TZID=Europe/Berlin:20260113T170000
DTSTAMP:20260105T083225
END:VEVENT
END:VCALENDAR
