BEGIN:VCALENDAR
METHOD:PUBLISH
X-WR-TIMEZONE:Europe/Berlin
PRODID:https://www.siwitermine.de
CALSCALE:GREGORIAN
VERSION:2.0
BEGIN:VTIMEZONE
TZID:Europe/Berlin
BEGIN:DAYLIGHT
TZOFFSETFROM:+0100
TZOFFSETTO:+0200
DTSTART:19810329T020000
RRULE:FREQ=YEARLY;BYMONTH=3;BYDAY=-1SU
TZNAME:CEST
END:DAYLIGHT
BEGIN:STANDARD
TZOFFSETFROM:+0200
TZOFFSETTO:+0100
DTSTART:19961027T030000
RRULE:FREQ=YEARLY;BYMONTH=10;BYDAY=-1SU
TZNAME:CET
END:STANDARD
END:VTIMEZONE
BEGIN:VEVENT
LOCATION:Kulturhaus Lÿz | St.-Johann-Str. 18 | Siegen
SUMMARY:Lennart Schilgen | Abwesenheitsnotizen
DESCRIPTION:Ständig erreichbar sein war gestern. Lennart Schilgen meldet sich mit seinem dritten Programm zurück - und glänzt durch Abwesenheit. Wenn er nicht gerade Konzerte gibt und Kleinkunstpreise einheimst (Prix Pantheon, Stuttgarter Besen, u.v.m.), macht er vor allem nämlich eins: sich davon. Unter anderem geht`s auf Radtour, ins Kloster und ins kommunistische Sommercamp. Oder auch nur in die Untiefen seiner Gedanken, was oft abenteuerlich genug ist.Dabei sind Lieder über die Ab- und Umwege in der Welt und im eigenen Kopf herausgekommen. Voller Leichtigkeit und Witz, aber auch ohne Scheu davor, sich den dunklen Ecken zu widmen. So wird diesmal teils jahrelang Unter-den-Teppich-Gekehrtes hervorgekramt: die alte PUR-Kassette. Die Grundschulzeugnisse. Die Sache mit der Nachtbushaltestelle. Und wenn alle Stricke reißen, gibt`s ja immer noch die Gedichte: kleine, sprachliche Wundertüten, zu tiefst albern, in höchstem Maße kunstvoll. Die erst kürzlich erschienen Gesammelten Werke sind in Lyrikband-Maßstäben bereits so etwas wie ein Bestseller. Noch Fragen? Dann können Sie ihm gerne jederzeit eine Mail schreiben. Er antwortet halt nicht. Also: am besten einfach direkt ins Lÿz kommen! | Info: 0271/333-2448 | https://www.siwitermine.de/61629 
UID:siwitermine/61629/2026-01-10-2W  
CLASS:PUBLIC
DTSTART;TZID=Europe/Berlin:20260111T190000
DTEND;TZID=Europe/Berlin:20260111T190000
DTSTAMP:20251120T122958
END:VEVENT
END:VCALENDAR
