BEGIN:VCALENDAR
METHOD:PUBLISH
X-WR-TIMEZONE:Europe/Berlin
PRODID:https://www.siwitermine.de
CALSCALE:GREGORIAN
VERSION:2.0
BEGIN:VTIMEZONE
TZID:Europe/Berlin
BEGIN:DAYLIGHT
TZOFFSETFROM:+0100
TZOFFSETTO:+0200
DTSTART:19810329T020000
RRULE:FREQ=YEARLY;BYMONTH=3;BYDAY=-1SU
TZNAME:CEST
END:DAYLIGHT
BEGIN:STANDARD
TZOFFSETFROM:+0200
TZOFFSETTO:+0100
DTSTART:19961027T030000
RRULE:FREQ=YEARLY;BYMONTH=10;BYDAY=-1SU
TZNAME:CET
END:STANDARD
END:VTIMEZONE
BEGIN:VEVENT
LOCATION:Siegerlandhalle | Koblenzer Str. 151 | Siegen
SUMMARY:Best of Musicals | Das Original. Die Highlights der großen Bühnen in einer Show
DESCRIPTION:Best of Musicals führt das Publikum durch bekannte Musical-Hits der letzten Jahrzehnte. Mit durchdachter Inszenierung, abgestimmter Lichttechnik und einem vielseitigen Ensemble entsteht ein Abend für alle, die Musicals schätzen. EIN ABEND VOLLER MUSICAL-HIGHLIGHTS Die Show präsentiert Songs aus über 20 Musicals - von klassischen Bühnenwerken bis hin zu modernen Produktionen. Das Programm kombiniert verschiedene Stile und Epochen. Titel aus Das Phantom der Oper, Cats, Mamma Mia!, Der König der Löwen, Tanz der Vampire, Elisabeth, We Will Rock You und weiteren Stücken sind Teil des Abends. Best of Musicals bietet jedoch mehr als eine Abfolge bekannter Lieder: Durch inszenierte Übergänge, Moderation und ein stimmiges Gesamtkonzept entsteht eine zusammenhängende musikalische Erzählung. ESPEN NOWACKI: VON DER BÜHNE ZUR EIGENEN PRODUKTION Espen Nowacki absolvierte seine Ausbildung an der Guildford School of Acting und stand in Produktionen wie West Side Story auf der Bühne. Seit 2008 zeigt er eigene Arbeiten in Deutschland. 2018 entwickelte er die erfolgreiche Show Best of Musicals. EMOTIONAL, MITREISSEND UND HAUTNAH Die Show legt Wert auf Nähe zum Publikum. Es wird nicht einfach ein Lied nach dem anderen gespielt - es entsteht ein durchdachter Ablauf mit szenischen Momenten, humorvollen Passagen und ruhigen Phasen. Zwischen Darstellenden und Publikum entsteht eine direkte Verbindung. ERLEBEN SIE MUSICAL-MOMENTE LIVE IN SIEGEN Die Aufführung dauert rund zweieinhalb Stunden. Sie umfasst Balladen, rockige Titel und musikalische Höhepunkte aus verschiedenen Produktionen. Das Zusammenspiel aus Musik, Licht und Bewegung sorgt für eine abwechslungsreiche Abendgestaltung. | Info: 07143 96050 | https://www.siwitermine.de/60896 
UID:siwitermine/60896/2026-01-08-2W  
CLASS:PUBLIC
DTSTART;TZID=Europe/Berlin:20260109T200000
DTEND;TZID=Europe/Berlin:20260109T200000
DTSTAMP:20250911T141635
END:VEVENT
END:VCALENDAR
