BEGIN:VCALENDAR
METHOD:PUBLISH
X-WR-TIMEZONE:Europe/Berlin
PRODID:https://www.siwitermine.de
CALSCALE:GREGORIAN
VERSION:2.0
BEGIN:VTIMEZONE
TZID:Europe/Berlin
BEGIN:DAYLIGHT
TZOFFSETFROM:+0100
TZOFFSETTO:+0200
DTSTART:19810329T020000
RRULE:FREQ=YEARLY;BYMONTH=3;BYDAY=-1SU
TZNAME:CEST
END:DAYLIGHT
BEGIN:STANDARD
TZOFFSETFROM:+0200
TZOFFSETTO:+0100
DTSTART:19961027T030000
RRULE:FREQ=YEARLY;BYMONTH=10;BYDAY=-1SU
TZNAME:CET
END:STANDARD
END:VTIMEZONE
BEGIN:VEVENT
LOCATION:St. Joseph | Weidenauer Straße in Siegen-Weidenau
SUMMARY:Orgelmatinée zum Abschluss der Weihnachtszeit | 
DESCRIPTION:In der Matinée spielt Helga Maria Lange im Anschluss an die Messe in St. Joseph, Weidenauer Straße Variationen aus der Barockzeit, der Romantik und der Moderne über Weihnachtslieder von Johann Gottfried Walther (1684 - 1748), Johann Sebastian Bach (1685 - 1750), Gustav Hecht (1851 - 1932), Karl Alois Mack (1867 - 1940), Max Springer (1877 - 1954), June Nixon (*1942) und Kenneth D. Varner (*1966). | Info: 0160/4113355 | https://www.siwitermine.de/62011 
UID:siwitermine/62011/2026-01-03-2W  
CLASS:PUBLIC
DTSTART;TZID=Europe/Berlin:20260111T104500
DTEND;TZID=Europe/Berlin:20260111T104500
DTSTAMP:20260102T132212
END:VEVENT
END:VCALENDAR
