BEGIN:VCALENDAR
METHOD:PUBLISH
X-WR-TIMEZONE:Europe/Berlin
PRODID:https://www.siwitermine.de
CALSCALE:GREGORIAN
VERSION:2.0
BEGIN:VTIMEZONE
TZID:Europe/Berlin
BEGIN:DAYLIGHT
TZOFFSETFROM:+0100
TZOFFSETTO:+0200
DTSTART:19810329T020000
RRULE:FREQ=YEARLY;BYMONTH=3;BYDAY=-1SU
TZNAME:CEST
END:DAYLIGHT
BEGIN:STANDARD
TZOFFSETFROM:+0200
TZOFFSETTO:+0100
DTSTART:19961027T030000
RRULE:FREQ=YEARLY;BYMONTH=10;BYDAY=-1SU
TZNAME:CET
END:STANDARD
END:VTIMEZONE
BEGIN:VEVENT
LOCATION:St. Peterskapelle | St. Petersplatz | Netphen
SUMMARY:Weihnachtskonzert zum Mitsingen mit Gregor Kölsch | 
DESCRIPTION:Der Entertainer Gregor Kölsch wird die schönsten traditionellen Weihnachtslieder anstimmen. Zu den Liedern gibt es passende Geschichten. Die Liedtexte können über QR-Code direkt auf das Handy geladen werden. Damit stehen die Texte jedem Konzertbesucher zur Verfügung. Die Texte können auf dem Handy bleiben und stehen natürlich auch für Familie und Freunde an Weihnachten bereit. Frisch geübt, sind die Lieder im Gedächtnis. Die Texte können am Heiligen Abend schnell elektronisch verteilt werden. Das stimmungsvolle Weihnachtsfest kann kommen. Der Eintritt in das Konzert ist frei. | Info: . | https://www.siwitermine.de/61942 
UID:siwitermine/61942/2025-12-23  
CLASS:PUBLIC
DTSTART;TZID=Europe/Berlin:20251223T180000
DTEND;TZID=Europe/Berlin:20251223T180000
DTSTAMP:20251216T140337
END:VEVENT
END:VCALENDAR
