BEGIN:VCALENDAR
METHOD:PUBLISH
X-WR-TIMEZONE:Europe/Berlin
PRODID:https://www.siwitermine.de
CALSCALE:GREGORIAN
VERSION:2.0
BEGIN:VTIMEZONE
TZID:Europe/Berlin
BEGIN:DAYLIGHT
TZOFFSETFROM:+0100
TZOFFSETTO:+0200
DTSTART:19810329T020000
RRULE:FREQ=YEARLY;BYMONTH=3;BYDAY=-1SU
TZNAME:CEST
END:DAYLIGHT
BEGIN:STANDARD
TZOFFSETFROM:+0200
TZOFFSETTO:+0100
DTSTART:19961027T030000
RRULE:FREQ=YEARLY;BYMONTH=10;BYDAY=-1SU
TZNAME:CET
END:STANDARD
END:VTIMEZONE
BEGIN:VEVENT
LOCATION:Viktoria Filmtheater Hilchenbach-Dahlbruch | Bernhard-Weiss-Platz 6
SUMMARY:No Hit Wonder | 
DESCRIPTION:(D 2025, 118 Minuten, ab 12) Daniel (Florian David Fitz) war mal ganz oben: Olympiastadion, 10.000 Feuerzeuge im Abendwind, alle haben seinen Song gesungen. Mittlerweile ist er ganz unten - nicht einmal das Dschungelcamp will ihn noch haben. Dr. Lissi Waldstett (Nora Tschirner) forscht über Glück. Weil man mit ihrem Forschungsthema aber nicht reich wird - Glück ist nun mal keine Kassenleistung - arbeitet sie auf der Psychiatrie. Sie braucht einen Clou, etwas, dass Aufmerksamkeit bringt. Als Daniel nach einem missglückten Suizidversuch auf ihrer Station aufwacht, sieht Lissi ihre Chance und macht ihm ein fragwürdiges Angebot: Sie bietet ihm Hilfe an, wenn er sie bei einem ungewöhnlichen Projekt unterstützt. Gemeinsam sollen sie eine Gruppe einsamer Menschen durch Gesang glücklicher machen. Was als Zweckgemeinschaft beginnt, entwickelt sich zu einem chaotischen Abenteuer, in dem beide glauben, den anderen zu kontrollieren. "Eine überwiegend leichte Komödie mit schrägen Figuren, die auf eine Abrechnung mit Trash-Fernsehen, Sozialen Medien und einem maroden Gesundheitssystem hinausläuft." (Filmdienst) | Info: 02733 61467 | https://www.siwitermine.de/61932 
UID:siwitermine/61932/2025-12-23  
CLASS:PUBLIC
DTSTART;TZID=Europe/Berlin:20251223T200000
DTEND;TZID=Europe/Berlin:20251223T200000
DTSTAMP:20251216T124424
END:VEVENT
END:VCALENDAR
