BEGIN:VCALENDAR
METHOD:PUBLISH
X-WR-TIMEZONE:Europe/Berlin
PRODID:https://www.siwitermine.de
CALSCALE:GREGORIAN
VERSION:2.0
BEGIN:VTIMEZONE
TZID:Europe/Berlin
BEGIN:DAYLIGHT
TZOFFSETFROM:+0100
TZOFFSETTO:+0200
DTSTART:19810329T020000
RRULE:FREQ=YEARLY;BYMONTH=3;BYDAY=-1SU
TZNAME:CEST
END:DAYLIGHT
BEGIN:STANDARD
TZOFFSETFROM:+0200
TZOFFSETTO:+0100
DTSTART:19961027T030000
RRULE:FREQ=YEARLY;BYMONTH=10;BYDAY=-1SU
TZNAME:CET
END:STANDARD
END:VTIMEZONE
BEGIN:VEVENT
LOCATION:Krönchendorf an der Nikolaikirche Siegen | Markt 2
SUMMARY:"itzend-solo & HohnerJo - Akustik Duo": Oldies, Rock`n´Roll, und mehr  im Siegener Krönchendorf | 
DESCRIPTION:itzend-solo & HohnerJo bringen im Duo 100% handgemachte Musik zum Klingen und sind dabei absolut partytauglich!!! Mit ihrem kräftigem Gitarrensound, klaren Stimmen und einer leidenschaftlichen Mundharmonika spielen sie Oldies und erdige Klassiker der Rock- und Pop Geschichte mit Schwerpunkt der 50er, 60er und 70er Jahre sowie manches mehr ... Besetzung: Karl-Heinz Dentler - Gesang, akustische Gitarre / Christoph Siebel alias HohnerJo, Mundharmonika, Gesang Aktuell im Programm sind u.a. Songs von CCR, Rolling Stones, Eric Clapton, Steve Winwood, Chuck Berry, Elvis, Bob Dylan, Rio Reiser, Ben E. King, Drafi D., Jethro Tull, Beatles, Neil Young, Canned Heat, T. Rex ... Motto: "let the good times roll" (Louis Jordan) | Info: 0271 30336036 | https://www.siwitermine.de/61878 
UID:siwitermine/61878/2025-12-17-1W  
CLASS:PUBLIC
DTSTART;TZID=Europe/Berlin:20251219T190000
DTEND;TZID=Europe/Berlin:20251219T190000
DTSTAMP:20251208T080635
END:VEVENT
END:VCALENDAR
