BEGIN:VCALENDAR
METHOD:PUBLISH
X-WR-TIMEZONE:Europe/Berlin
PRODID:https://www.siwitermine.de
CALSCALE:GREGORIAN
VERSION:2.0
BEGIN:VTIMEZONE
TZID:Europe/Berlin
BEGIN:DAYLIGHT
TZOFFSETFROM:+0100
TZOFFSETTO:+0200
DTSTART:19810329T020000
RRULE:FREQ=YEARLY;BYMONTH=3;BYDAY=-1SU
TZNAME:CEST
END:DAYLIGHT
BEGIN:STANDARD
TZOFFSETFROM:+0200
TZOFFSETTO:+0100
DTSTART:19961027T030000
RRULE:FREQ=YEARLY;BYMONTH=10;BYDAY=-1SU
TZNAME:CET
END:STANDARD
END:VTIMEZONE
BEGIN:VEVENT
LOCATION:Nikolaikirche Brilon | Steinweg 9 | 59929 Brilon
SUMMARY:Quartonal - Hodie Christus natus est | Stimmungsvolles 143. Kerzenkonzert von Brilon Kultur
DESCRIPTION:Ein ganz besonderes Kerzenkonzert veranstaltet Brilon Kultour am Sonntag, 28. Dezember 2025 um 19.30 Uhr in der Briloner Nikolaikirche. Im 143. Kerzenkonzert präsentiert das Ensemble Quartonal geistliche und weihnachtliche Vokalmusik für vier Männerstimmen. Quartonal hat seine Wurzeln in Norddeutschland bei den Chorknaben Uetersen und gehört heute zu den gefragtesten Vokalensembles Deutschlands. Die vier jungen Sänger Mirko Ludwig (Tenor), Jo Holzwarth (Tenor), Christoph Behm (Bariton) und Sönke Tams Freier (Bass) begeistern bei ihren Konzerten nicht nur mit einem überaus vielseitigen Repertoire, sondern auch mit ihrer Hingabe zum musikalischen Detail und nicht zuletzt mit ihrer humorvollen Art. Ein weiteres Markenzeichen ihrer Arbeit ist der äußerst homogene Klang, der ihre Musik jenseits von Epochen- oder Stilgrenzen auszeichnet. Nach der Gründung des Ensembles 2006 erreichte Quartonal bereits 2010 beim Deutschen Chorwettbewerb in Dortmund den 1. Preis in der Kategorie Vokalensembles. Es folgten Publikums- und Jurypreise beim Internationalen A-cappella-Wettbewerb Leipzig und beim renommierten Wettbewerb Tolosako Abesbatza Lehiaketa in Tolosa (Spanien). Seine rege Konzerttätigkeit führte das Ensemble bereits in alle Teile Deutschlands sowie nach Dänemark, Frankreich, Großbritannien bis nach Taiwan, Japan und China. Quartonal arbeitet mit international renommierten Komponisten und Arrangeuren zusammen, u. a. Juan M. V. Garcia, Oliver Gies, Thomas Hewitt Jones und David Timm. Entscheidende künstlerische Impulse erhielten sie durch die King's Singers. Das 143. Kerzenkonzert findet mit Unterstützung der Firma Condensator Dominit statt. Karten im Vorverkauf gibt es in der Buchhandlung Podszun sowie bei der BWT, Am Markt 4, telefonisch unter 02961 / 9699-0 oder per Mail an kultur@brilon.de. Sie kosten im Vorverkauf 18 Euro, an der Abendkasse 22 Euro. Schülerinnen und Schüler, Auszubildende und Studierende erhalten ermäßigte Karten für 12 bzw.16 Euro. Online unter www.ticket-regional.de fallen zusätzliche Gebühren an. Die stimmungsvolle Atmosphäre in der kerzenbeschienenen Nikolaikirche garantiert einen Abend in Weihnachtsstimmung nach dem Trubel der Weihnachtstage. Eine Weihnachtsstimmung, die sich wunderbar zu Weihnachten verschenken lässt.  | Info: 02961969950 | https://www.siwitermine.de/61965 
UID:siwitermine/61965/2025-12-15-2W  
CLASS:PUBLIC
DTSTART;TZID=Europe/Berlin:20251228T193000
DTEND;TZID=Europe/Berlin:20251228T193000
DTSTAMP:20251217T120030
END:VEVENT
END:VCALENDAR
